BEGIN:VCALENDAR
VERSION:2.0
PRODID:-//Sabre//Sabre VObject 4.5.8//EN
CALSCALE:GREGORIAN
BEGIN:VEVENT
UID:sabre-vobject-b9baff3b-c5a8-4b9b-96d2-0a6691352533
DTSTAMP:20260420T115350Z
SUMMARY:Hot Tub & Swim Spa Sale
DESCRIPTION:
X-ALT-DESC:FMTTYPE=text/html:<!DOCTYPE HTML PUBLIC "-//W3C//DTD HTML 3.2//E
 N"><HTML></HTML>
CREATED;TZID=America/Denver:20240325T150936
URL;VALUE=URI:https://flatheadcounty.gov/county-calendar/calendar-event-det
 ail/hot-tub-and-swim-spa-sale
DTSTART;TZID=America/Denver:20240329T120000
DTEND;TZID=America/Denver:20240329T200000
SEQUENCE:0
END:VEVENT
BEGIN:VEVENT
UID:sabre-vobject-fc31a98a-d23b-4bc0-844e-c9d1de2e858e
DTSTAMP:20260420T115350Z
SUMMARY:Hot Tub & Swim Spa Sale
DESCRIPTION:
X-ALT-DESC:FMTTYPE=text/html:<!DOCTYPE HTML PUBLIC "-//W3C//DTD HTML 3.2//E
 N"><HTML></HTML>
CREATED;TZID=America/Denver:20240325T150936
URL;VALUE=URI:https://flatheadcounty.gov/county-calendar/calendar-event-det
 ail/hot-tub-and-swim-spa-sale
DTSTART;TZID=America/Denver:20240330T100000
DTEND;TZID=America/Denver:20240330T200000
SEQUENCE:1
END:VEVENT
BEGIN:VEVENT
UID:sabre-vobject-0c983f51-dfc5-4082-94c4-9513bb67c8d6
DTSTAMP:20260420T115350Z
SUMMARY:Hot Tub & Swim Spa Sale
DESCRIPTION:
X-ALT-DESC:FMTTYPE=text/html:<!DOCTYPE HTML PUBLIC "-//W3C//DTD HTML 3.2//E
 N"><HTML></HTML>
CREATED;TZID=America/Denver:20240325T150936
URL;VALUE=URI:https://flatheadcounty.gov/county-calendar/calendar-event-det
 ail/hot-tub-and-swim-spa-sale
DTSTART;TZID=America/Denver:20240331T100000
DTEND;TZID=America/Denver:20240331T180000
SEQUENCE:2
END:VEVENT
END:VCALENDAR
