BEGIN:VCALENDAR
VERSION:2.0
PRODID:-//Sabre//Sabre VObject 4.5.8//EN
CALSCALE:GREGORIAN
BEGIN:VEVENT
UID:sabre-vobject-2af3998f-8841-4b79-8686-24f29781f90e
DTSTAMP:20260420T115009Z
SUMMARY:Prairie Sisters Vintage Market
DESCRIPTION:Tickets are $5 at the door.\n\nChildren 12 and under are free.\
 n
X-ALT-DESC:FMTTYPE=text/html:<!DOCTYPE HTML PUBLIC "-//W3C//DTD HTML 3.2//E
 N"><HTML><p class="sqsrte-large" style="margin: 1rem 0px\; line-height: va
 r(--body-font-line-height)\; font-family: Grotesk\; font-size: calc(var(--
 large-text-size-value) * 1rem)\; color: rgb(27\, 26\, 25)\; overflow-wrap:
  break-word\; font-style: normal\; font-variant-ligatures: normal\; font-v
 ariant-caps: normal\; font-weight: 300\; letter-spacing: normal\; orphans:
  2\; text-indent: 0px\; text-transform: none\; widows: 2\; word-spacing: 0
 px\; -webkit-text-stroke-width: 0px\; white-space: pre-wrap\; background-c
 olor: rgb(85\, 88\, 71)\; text-decoration-thickness: initial\; text-decora
 tion-style: initial\; text-decoration-color: initial\; text-align: center\
 ;">Tickets are $5 at the door.</p>\n\n<p class="sqsrte-large" style="margi
 n: 1rem 0px 0px\; line-height: var(--body-font-line-height)\; font-family:
  Grotesk\; font-size: calc(var(--large-text-size-value) * 1rem)\; color: r
 gb(27\, 26\, 25)\; overflow-wrap: break-word\; font-style: normal\; font-v
 ariant-ligatures: normal\; font-variant-caps: normal\; font-weight: 300\; 
 letter-spacing: normal\; orphans: 2\; text-indent: 0px\; text-transform: n
 one\; widows: 2\; word-spacing: 0px\; -webkit-text-stroke-width: 0px\; whi
 te-space: pre-wrap\; background-color: rgb(85\, 88\, 71)\; text-decoration
 -thickness: initial\; text-decoration-style: initial\; text-decoration-col
 or: initial\; text-align: center\;">Children 12 and under are free.</p>\n<
 /HTML>
CREATED;TZID=America/Denver:20240318T113847
URL;VALUE=URI:https://flatheadcounty.gov/county-calendar/calendar-event-det
 ail/prairie-sisters-vintage-market
DTSTART;TZID=America/Denver:20240323T100000
DTEND;TZID=America/Denver:20240323T160000
SEQUENCE:0
END:VEVENT
END:VCALENDAR
