BEGIN:VCALENDAR
VERSION:2.0
PRODID:-//Sabre//Sabre VObject 4.5.8//EN
CALSCALE:GREGORIAN
BEGIN:VEVENT
UID:sabre-vobject-5cfad2ca-499f-4f0c-a8ef-f07be0f50ea9
DTSTAMP:20260420T113545Z
SUMMARY:Re: Apparel – Mending Workshop
DESCRIPTION:Join us for an Earth Day Celebration! At this free event\, lear
 n how to reduce textile waste by mending and repairing your gear and cloth
 ing. Bring an item that needs to be repaired and work with local professio
 nals to mend it. Try your hand at darning\, patching\, and visible mending
 . Meet others that like to fix things and learn about local artist initiat
 ives. RSVP recommended. This program is for adults only. Sign-up at imagin
 eiflibraries.org/education/adults/ \n\nImagineIF Kalispell: April 27\, 11a
 m-2pm\n
X-ALT-DESC:FMTTYPE=text/html:<!DOCTYPE HTML PUBLIC "-//W3C//DTD HTML 3.2//E
 N"><HTML><p style="margin-bottom:8px"><span style="font-size:11pt"><span s
 tyle="font-family:Verdana\,sans-serif"><span style="font-size:10.0pt"><spa
 n style="color:#685c53">Join us for an Earth Day Celebration! At this free
  event\, learn how to reduce textile waste by mending and repairing your g
 ear and clothing. Bring an item that needs to be repaired and work with lo
 cal professionals to mend it. Try your hand at darning\, patching\, and vi
 sible mending. Meet others that like to fix things and learn about local a
 rtist initiatives. RSVP recommended. This program is for adults only. Sign
 -up at </span></span><a href="imagineiflibraries.org/education/adults/" st
 yle="color:#0080bc\; text-decoration:underline"><span style="font-size:10.
 0pt">imagineiflibraries.org/education/adults/</span></a> </span></span></p
 >\n\n<p style="text-indent:.5in"><span style="font-size:11pt"><span style=
 "font-family:Verdana\,sans-serif"><b><span style="font-size:10.0pt"><span 
 style="color:#685c53">ImagineIF Kalispell: </span></span></b><span style="
 font-size:10.0pt"><span style="color:#685c53">April 27\, 11am-2pm</span></
 span></span></span></p>\n</HTML>
CREATED;TZID=America/Denver:20240402T162642
URL;VALUE=URI:https://flatheadcounty.gov/county-calendar/calendar-event-det
 ail/re-apparel-mending-workshop
DTSTART;TZID=America/Denver:20240427T110000
DTEND;TZID=America/Denver:20240427T140000
SEQUENCE:0
END:VEVENT
END:VCALENDAR
