BEGIN:VCALENDAR
VERSION:2.0
PRODID:-//Sabre//Sabre VObject 4.5.8//EN
CALSCALE:GREGORIAN
BEGIN:VEVENT
UID:sabre-vobject-43f7211d-15b5-44d7-842a-0acb98338f02
DTSTAMP:20260420T113646Z
SUMMARY:Road Map to Aging Plan Session
DESCRIPTION:Introductory Session to discuss how to plan for your aging jour
 ney\, find resources\, and avoid crisis decision making. Located in the So
 uth Campus Conference Room\, 40 11th St W\, from 12:00-1:00 pm. RSVP=(406)
  758-2471.\n
X-ALT-DESC:FMTTYPE=text/html:<!DOCTYPE HTML PUBLIC "-//W3C//DTD HTML 3.2//E
 N"><HTML><p>Introductory Session to discuss how to plan for your aging jou
 rney\, find resources\, and avoid crisis decision making. Located in the S
 outh Campus Conference Room\, 40 11th St W\, from 12:00-1:00 pm. RSVP=(406
 ) 758-2471.</p>\n</HTML>
CREATED;TZID=America/Denver:20240408T092103
URL;VALUE=URI:https://flatheadcounty.gov/county-calendar/calendar-event-det
 ail/road-map-aging-plan-session
DTSTART;TZID=America/Denver:20240410T120000
DTEND;TZID=America/Denver:20240410T130000
SEQUENCE:0
END:VEVENT
END:VCALENDAR
