BEGIN:VCALENDAR
VERSION:2.0
PRODID:-//Sabre//Sabre VObject 4.5.8//EN
CALSCALE:GREGORIAN
BEGIN:VEVENT
UID:sabre-vobject-7bacb7c7-bce5-4d26-bc55-da2ed68a7e54
DTSTAMP:20260420T113726Z
SUMMARY:Fight Fraud Friday
DESCRIPTION:Come for lunch on 4/19 between 11:30-1:00 pm and visit our info
 rmation table to get the latest information on current scams and tips to s
 top fraud schemes. Our staff will have helpful information to avoid scams.
  Call 406-758-5730 for more details.\n
X-ALT-DESC:FMTTYPE=text/html:<!DOCTYPE HTML PUBLIC "-//W3C//DTD HTML 3.2//E
 N"><HTML><p>Come for lunch on 4/19 between 11:30-1:00 pm and visit our inf
 ormation table to get the latest information on current scams and tips to 
 stop fraud schemes. Our staff will have helpful information to avoid scams
 . Call 406-758-5730 for more details.</p>\n</HTML>
CREATED;TZID=America/Denver:20240408T143029
URL;VALUE=URI:https://flatheadcounty.gov/county-calendar/calendar-event-det
 ail/fight-fraud-friday-4
DTSTART;TZID=America/Denver:20240419T113000
DTEND;TZID=America/Denver:20240419T130000
SEQUENCE:0
END:VEVENT
END:VCALENDAR
