BEGIN:VCALENDAR
VERSION:2.0
PRODID:-//Sabre//Sabre VObject 4.5.8//EN
CALSCALE:GREGORIAN
BEGIN:VEVENT
UID:sabre-vobject-1ecba3ef-f78f-42c7-a994-3b62c76f808f
DTSTAMP:20260420T081759Z
SUMMARY:Weed/Parks & Recreation Board Meeting
DESCRIPTION:
X-ALT-DESC:FMTTYPE=text/html:<!DOCTYPE HTML PUBLIC "-//W3C//DTD HTML 3.2//E
 N"><HTML></HTML>
CREATED;TZID=America/Denver:20240424T123156
URL;VALUE=URI:https://flatheadcounty.gov/county-calendar/calendar-event-det
 ail/weedparks-and-recreation-board-meeting-9
DTSTART;TZID=America/Denver:20240506T083000
DTEND;TZID=America/Denver:20240506T100000
SEQUENCE:0
END:VEVENT
END:VCALENDAR
