BEGIN:VCALENDAR
VERSION:2.0
PRODID:-//Sabre//Sabre VObject 4.5.8//EN
CALSCALE:GREGORIAN
BEGIN:VEVENT
UID:sabre-vobject-b9a839f8-9c31-4ff4-bbfd-27ae2a62c040
DTSTAMP:20260420T113458Z
SUMMARY:EMS Administrative Board Meeting 
DESCRIPTION:Meeting of the Flathead County Emergency Medical Services Admin
 istrative Board. Meeting will be held in the EOC room at OES. 625 Timberwo
 lf Parkway\, Kalispell MT 59901.\n\n&nbsp\;\n\nPlease note: Agenda will be
  posted prior to the meeting at OES and online. Agenda is subject to chang
 e. Agenda will be posted no later than 48 hours prior to the meeting.&nbsp
 \;\n
X-ALT-DESC:FMTTYPE=text/html:<!DOCTYPE HTML PUBLIC "-//W3C//DTD HTML 3.2//E
 N"><HTML><p>Meeting of the Flathead County Emergency Medical Services Admi
 nistrative Board. Meeting will be held in the EOC room at OES. 625 Timberw
 olf Parkway\, Kalispell MT 59901.</p>\n\n<p>&nbsp\;</p>\n\n<p>Please note:
  Agenda will be posted prior to the meeting at OES and online. Agenda is s
 ubject to change. Agenda will be posted no later than 48 hours prior to th
 e meeting.&nbsp\;</p>\n</HTML>
CREATED;TZID=America/Denver:20240417T202704
URL;VALUE=URI:https://flatheadcounty.gov/county-calendar/calendar-event-det
 ail/ems-administrative-board-meeting-7
DTSTART;TZID=America/Denver:20240422T160000
DTEND;TZID=America/Denver:20240422T170000
SEQUENCE:0
END:VEVENT
END:VCALENDAR
