BEGIN:VCALENDAR
VERSION:2.0
PRODID:-//Sabre//Sabre VObject 4.5.8//EN
CALSCALE:GREGORIAN
BEGIN:VEVENT
UID:sabre-vobject-d3e86bf4-8876-4e41-b2bc-03eec9b62ab7
DTSTAMP:20260420T081759Z
SUMMARY:EMS Administrative Board Meeting
DESCRIPTION:Meeting of the Flathead County Emergency Medical Services Admin
 istrative Board. Meeting will be held in the EOC room at OES. 625 Timberwo
 lf Parkway\, Kalispell MT 59901.\n\n&nbsp\;\n\nPlease note: Agenda will be
  posted prior to the meeting at OES and online. Agenda is subject to chang
 e. Agenda will be posted no later than 48 hours prior to the meeting.&nbsp
 \;\n
X-ALT-DESC:FMTTYPE=text/html:<!DOCTYPE HTML PUBLIC "-//W3C//DTD HTML 3.2//E
 N"><HTML><p>Meeting of the Flathead County Emergency Medical Services Admi
 nistrative Board. Meeting will be held in the EOC room at OES. 625 Timberw
 olf Parkway\, Kalispell MT 59901.</p>\n\n<p>&nbsp\;</p>\n\n<p>Please note:
  Agenda will be posted prior to the meeting at OES and online. Agenda is s
 ubject to change. Agenda will be posted no later than 48 hours prior to th
 e meeting.&nbsp\;</p>\n</HTML>
CREATED;TZID=America/Denver:20240606T144001
URL;VALUE=URI:https://flatheadcounty.gov/county-calendar/calendar-event-det
 ail/ems-administrative-board-meeting-8
DTSTART;TZID=America/Denver:20240611T130000
DTEND;TZID=America/Denver:20240611T143000
SEQUENCE:0
END:VEVENT
END:VCALENDAR
