BEGIN:VCALENDAR
VERSION:2.0
PRODID:-//Sabre//Sabre VObject 4.5.8//EN
CALSCALE:GREGORIAN
BEGIN:VEVENT
UID:sabre-vobject-bcd06cc1-e3ac-417e-b2cf-94cd40a31e13
DTSTAMP:20260420T113412Z
SUMMARY:EMS Administrative Board Notice
DESCRIPTION:A quorum of the EMS Administrative Board Members will be in att
 endance of the County Commissioners meeting. The board will be there to pr
 esent the proposed FY 25 budget to the commissioners and answer any questi
 ons they may have.&nbsp\;\n
X-ALT-DESC:FMTTYPE=text/html:<!DOCTYPE HTML PUBLIC "-//W3C//DTD HTML 3.2//E
 N"><HTML><p>A quorum of the EMS Administrative Board Members will be in at
 tendance of the County Commissioners meeting. The board will be there to p
 resent the proposed FY 25 budget to the commissioners and answer any quest
 ions they may have.&nbsp\;</p>\n</HTML>
CREATED;TZID=America/Denver:20240509T115259
URL;VALUE=URI:https://flatheadcounty.gov/county-calendar/calendar-event-det
 ail/ems-administrative-board-notice
DTSTART;TZID=America/Denver:20240514T083000
DTEND;TZID=America/Denver:20240514T120000
SEQUENCE:0
END:VEVENT
END:VCALENDAR
