BEGIN:VCALENDAR
VERSION:2.0
PRODID:-//Sabre//Sabre VObject 4.5.8//EN
CALSCALE:GREGORIAN
BEGIN:VEVENT
UID:sabre-vobject-f34a5805-fea6-4bfe-87ae-ad76d0011f84
DTSTAMP:20260420T113944Z
SUMMARY:Medicare 101
DESCRIPTION:The next Medicare 101 class is Tuesday\, May 28th in the South 
 Campus Conference Room\, 40 11th Street West in Kalispell. Class time is f
 rom 1:00-3:00 pm. This session will help you gain a better understanding o
 f Medicare\, whether you&#39\;re currently on Medicare\, about to become e
 ligible or you&#39\;re a caregiver for someone who is. Please call (406) 7
 58-5730 to reserve your spot.&nbsp\;\n
X-ALT-DESC:FMTTYPE=text/html:<!DOCTYPE HTML PUBLIC "-//W3C//DTD HTML 3.2//E
 N"><HTML><p>The next Medicare 101 class is Tuesday\, May 28th in the South
  Campus Conference Room\, 40 11th Street West in Kalispell. Class time is 
 from 1:00-3:00 pm. This session will help you gain a better understanding 
 of Medicare\, whether you&#39\;re currently on Medicare\, about to become 
 eligible or you&#39\;re a caregiver for someone who is. Please call (406) 
 758-5730 to reserve your spot.&nbsp\;</p>\n</HTML>
CREATED;TZID=America/Denver:20240520T101217
URL;VALUE=URI:https://flatheadcounty.gov/county-calendar/calendar-event-det
 ail/medicare-101-4
DTSTART;TZID=America/Denver:20240528T130000
DTEND;TZID=America/Denver:20240528T150000
SEQUENCE:0
END:VEVENT
END:VCALENDAR
