BEGIN:VCALENDAR
VERSION:2.0
PRODID:-//Sabre//Sabre VObject 4.5.8//EN
CALSCALE:GREGORIAN
BEGIN:VEVENT
UID:sabre-vobject-9577a53e-617d-4e8e-aa79-63cbb449f5d4
DTSTAMP:20260420T115549Z
SUMMARY:Middle Canyon Land Use Advisory Committee (MCLUAC) Meeting
DESCRIPTION:
X-ALT-DESC:FMTTYPE=text/html:<!DOCTYPE HTML PUBLIC "-//W3C//DTD HTML 3.2//E
 N"><HTML></HTML>
CREATED;TZID=America/Denver:20240522T142520
URL;VALUE=URI:https://flatheadcounty.gov/county-calendar/calendar-event-det
 ail/middle-canyon-land-use-advisory-committee-mcluac-meeting-3
DTSTART;TZID=America/Denver:20240528T190000
DTEND;TZID=America/Denver:20240528T220000
SEQUENCE:0
END:VEVENT
END:VCALENDAR
