BEGIN:VCALENDAR
VERSION:2.0
PRODID:-//Sabre//Sabre VObject 4.5.8//EN
CALSCALE:GREGORIAN
BEGIN:VEVENT
UID:sabre-vobject-fd1a6a80-88ff-4b61-8fd5-1671bcbc9af1
DTSTAMP:20260420T114151Z
SUMMARY:Bigfork Land Use Advisory Committee (BLUAC) Meeting
DESCRIPTION:
X-ALT-DESC:FMTTYPE=text/html:<!DOCTYPE HTML PUBLIC "-//W3C//DTD HTML 3.2//E
 N"><HTML></HTML>
CREATED;TZID=America/Denver:20240521T081550
URL;VALUE=URI:https://flatheadcounty.gov/county-calendar/calendar-event-det
 ail/bigfork-land-use-advisory-committee-bluac-meeting-8
DTSTART;TZID=America/Denver:20240530T160000
DTEND;TZID=America/Denver:20240530T180000
SEQUENCE:0
END:VEVENT
END:VCALENDAR
