BEGIN:VCALENDAR
VERSION:2.0
PRODID:-//Sabre//Sabre VObject 4.5.8//EN
CALSCALE:GREGORIAN
BEGIN:VEVENT
UID:sabre-vobject-42d3eed7-ab49-4787-a1d2-7c50dadb48eb
DTSTAMP:20260420T115003Z
SUMMARY:Weed/Parks & Recreation Board Meeting
DESCRIPTION:
X-ALT-DESC:FMTTYPE=text/html:<!DOCTYPE HTML PUBLIC "-//W3C//DTD HTML 3.2//E
 N"><HTML></HTML>
CREATED;TZID=America/Denver:20240627T100355
URL;VALUE=URI:https://flatheadcounty.gov/county-calendar/calendar-event-det
 ail/weedparks-and-recreation-board-meeting-11
DTSTART;TZID=America/Denver:20240701T083000
DTEND;TZID=America/Denver:20240701T103000
SEQUENCE:0
END:VEVENT
END:VCALENDAR
