BEGIN:VCALENDAR
VERSION:2.0
PRODID:-//Sabre//Sabre VObject 4.5.8//EN
CALSCALE:GREGORIAN
BEGIN:VEVENT
UID:sabre-vobject-ec781a00-9171-46df-8e63-8430a264e346
DTSTAMP:20260420T080555Z
SUMMARY:Glacier Rabbit Show
DESCRIPTION:Description: Welcome to a group of&nbsp\;rabbit&nbsp\;breeders 
 from Northwest Montana. While our goals are to put on ARBA-sanctioned&nbsp
 \;shows&nbsp\;in Northwest Montana\, we hope to do so with youth and educa
 tional focus for our group. We welcome all to join our group and participa
 te in our events.\n
X-ALT-DESC:FMTTYPE=text/html:<!DOCTYPE HTML PUBLIC "-//W3C//DTD HTML 3.2//E
 N"><HTML><p>Description: Welcome to a group of&nbsp\;<strong>rabbit</stron
 g>&nbsp\;breeders from Northwest Montana. While our goals are to put on AR
 BA-sanctioned&nbsp\;<strong>shows</strong>&nbsp\;in Northwest Montana\, we
  hope to do so with youth and educational focus for our group. We welcome 
 all to join our group and participate in our events.</p>\n</HTML>
CREATED;TZID=America/Denver:20240531T150853
URL;VALUE=URI:https://flatheadcounty.gov/county-calendar/calendar-event-det
 ail/glacier-rabbit-show-1
DTSTART;TZID=America/Denver:20240914T000000
DTEND;TZID=America/Denver:20240914T235959
SEQUENCE:0
END:VEVENT
END:VCALENDAR
