BEGIN:VCALENDAR
VERSION:2.0
PRODID:-//Sabre//Sabre VObject 4.5.8//EN
CALSCALE:GREGORIAN
BEGIN:VEVENT
UID:sabre-vobject-e98274e4-e42c-4591-92c9-75b5b62ca7b4
DTSTAMP:20260421T212548Z
SUMMARY:Health & Wellness Fair
DESCRIPTION:There is nothing like a good old-fashion community health fair!
  Away from the formal\, detached sterility of the doctor&rsquo\;s office\,
  this is an opportunity to meet with health care providers on your terms w
 ith little or no cost. We partner with your local health providers to offe
 r a wide range of services like Flu\, Covid-19\, TDAP\, and Shingles vacci
 nes. In addition\, we will have health professionals and program directors
  to answer questions as well as health testing. The Health and Wellness Fa
 ir is the premiere place for resources and inspiration to get healthy and 
 fit for a longer life. We celebrate body\, mind and spirit with an abundan
 ce of health\, safety\, and wellness resources. Visit our website for more
  information www.MontanaHealthFair.com\n
X-ALT-DESC:FMTTYPE=text/html:<!DOCTYPE HTML PUBLIC "-//W3C//DTD HTML 3.2//E
 N"><HTML><p><span style="font-size:11pt"><span style="font-family:Calibri\
 ,sans-serif">There is nothing like a good old-fashion community health fai
 r! Away from the formal\, detached sterility of the doctor&rsquo\;s office
 \, this is an opportunity to meet with health care providers on your terms
  with little or no cost. We partner with your local health providers to of
 fer a wide range of services like Flu\, Covid-19\, TDAP\, and Shingles vac
 cines. In addition\, we will have health professionals and program directo
 rs to answer questions as well as health testing. The Health and Wellness 
 Fair is the premiere place for resources and inspiration to get healthy an
 d fit for a longer life. We celebrate body\, mind and spirit with an abund
 ance of health\, safety\, and wellness resources. Visit our website for mo
 re information <a href="http://www.MontanaHealthFair.com" style="color:blu
 e\; text-decoration:underline">www.MontanaHealthFair.com</a></span></span>
 </p>\n</HTML>
CREATED;TZID=America/Denver:20240531T151945
URL;VALUE=URI:https://flatheadcounty.gov/county-calendar/calendar-event-det
 ail/health-and-wellness-fair
DTSTART;TZID=America/Denver:20240914T110000
DTEND;TZID=America/Denver:20240914T160000
SEQUENCE:0
END:VEVENT
END:VCALENDAR
