BEGIN:VCALENDAR
VERSION:2.0
PRODID:-//Sabre//Sabre VObject 4.5.8//EN
CALSCALE:GREGORIAN
BEGIN:VEVENT
UID:sabre-vobject-6a7c854a-012a-44e0-9c1c-b024540f73a3
DTSTAMP:20260420T081234Z
SUMMARY:Quilt Show
DESCRIPTION:The&nbsp\; Flathead Quilters&#39\; Guild (FQG) is a wonderful g
 roup of people\, ages 9 &ndash\; 99\, from everywhere in the Flathead Vall
 ey of northwest Montana and beyond\, with a little or a lot of quilting ex
 perience\, who gather to share their love of quilting!&nbsp\;\n\nOur activ
 ities and interests are as diverse as our 120 members &ndash\; traditional
  and modern\, hand and machine quilting - we do it all!\n
X-ALT-DESC:FMTTYPE=text/html:<!DOCTYPE HTML PUBLIC "-//W3C//DTD HTML 3.2//E
 N"><HTML><p>The&nbsp\; Flathead Quilters&#39\; Guild (FQG) is a wonderful 
 group of people\, ages 9 &ndash\; 99\, from everywhere in the Flathead Val
 ley of northwest Montana and beyond\, with a little or a lot of quilting e
 xperience\, who gather to share their love of quilting!&nbsp\;</p>\n\n<p>O
 ur activities and interests are as diverse as our 120 members &ndash\; tra
 ditional and modern\, hand and machine quilting - we do it all!</p>\n</HTM
 L>
CREATED;TZID=America/Denver:20240531T155033
URL;VALUE=URI:https://flatheadcounty.gov/county-calendar/calendar-event-det
 ail/quilt-show
DTSTART;TZID=America/Denver:20240920T090000
DTEND;TZID=America/Denver:20240920T160000
SEQUENCE:0
END:VEVENT
BEGIN:VEVENT
UID:sabre-vobject-48dcce37-cd49-41e9-b299-f9da119afa72
DTSTAMP:20260420T081234Z
SUMMARY:Quilt Show
DESCRIPTION:The&nbsp\; Flathead Quilters&#39\; Guild (FQG) is a wonderful g
 roup of people\, ages 9 &ndash\; 99\, from everywhere in the Flathead Vall
 ey of northwest Montana and beyond\, with a little or a lot of quilting ex
 perience\, who gather to share their love of quilting!&nbsp\;\n\nOur activ
 ities and interests are as diverse as our 120 members &ndash\; traditional
  and modern\, hand and machine quilting - we do it all!\n
X-ALT-DESC:FMTTYPE=text/html:<!DOCTYPE HTML PUBLIC "-//W3C//DTD HTML 3.2//E
 N"><HTML><p>The&nbsp\; Flathead Quilters&#39\; Guild (FQG) is a wonderful 
 group of people\, ages 9 &ndash\; 99\, from everywhere in the Flathead Val
 ley of northwest Montana and beyond\, with a little or a lot of quilting e
 xperience\, who gather to share their love of quilting!&nbsp\;</p>\n\n<p>O
 ur activities and interests are as diverse as our 120 members &ndash\; tra
 ditional and modern\, hand and machine quilting - we do it all!</p>\n</HTM
 L>
CREATED;TZID=America/Denver:20240531T155033
URL;VALUE=URI:https://flatheadcounty.gov/county-calendar/calendar-event-det
 ail/quilt-show
DTSTART;TZID=America/Denver:20240921T120000
DTEND;TZID=America/Denver:20240921T130000
SEQUENCE:1
END:VEVENT
END:VCALENDAR
