BEGIN:VCALENDAR
VERSION:2.0
PRODID:-//Sabre//Sabre VObject 4.5.8//EN
CALSCALE:GREGORIAN
BEGIN:VEVENT
UID:sabre-vobject-e975c9c9-1db8-4e1a-abdc-bb7b8e28e7f3
DTSTAMP:20260420T113456Z
SUMMARY:406 Consignary
DESCRIPTION:Come Shop Thousands Of Amazing Items\n\nAt 406 Consignary\,&nbs
 p\;we carefully inspect every item that enters our doors\, so you&#39\;ll 
 only have the best to choose from!&nbsp\;Every spring and fall\, we have t
 housands of new {and gently-used} name-brand and boutique&nbsp\;items at 3
 0-90% off retail! Hosting in six Montana cities&nbsp\;for three days only\
 , save the date so you won&#39\;t&nbsp\;miss it!&nbsp\;\n
X-ALT-DESC:FMTTYPE=text/html:<!DOCTYPE HTML PUBLIC "-//W3C//DTD HTML 3.2//E
 N"><HTML><h2>Come Shop Thousands Of Amazing Items</h2>\n\n<p>At 406 Consig
 nary\,&nbsp\;we carefully inspect every item that enters our doors\, so yo
 u&#39\;ll only have the best to choose from!&nbsp\;Every spring and fall\,
  we have thousands of new {and gently-used} name-brand and boutique&nbsp\;
 items at 30-90% off retail! Hosting in six Montana cities&nbsp\;for three 
 days only\, save the date so you won&#39\;t&nbsp\;miss it!&nbsp\;</p>\n</H
 TML>
CREATED;TZID=America/Denver:20240531T160506
URL;VALUE=URI:https://flatheadcounty.gov/county-calendar/calendar-event-det
 ail/406-consignary
DTSTART;TZID=America/Denver:20240921T100000
DTEND;TZID=America/Denver:20240921T170000
SEQUENCE:0
END:VEVENT
BEGIN:VEVENT
UID:sabre-vobject-a17d1398-2c47-4b19-8473-b80f91b602a6
DTSTAMP:20260420T113456Z
SUMMARY:406 Consignary
DESCRIPTION:Come Shop Thousands Of Amazing Items\n\nAt 406 Consignary\,&nbs
 p\;we carefully inspect every item that enters our doors\, so you&#39\;ll 
 only have the best to choose from!&nbsp\;Every spring and fall\, we have t
 housands of new {and gently-used} name-brand and boutique&nbsp\;items at 3
 0-90% off retail! Hosting in six Montana cities&nbsp\;for three days only\
 , save the date so you won&#39\;t&nbsp\;miss it!&nbsp\;\n
X-ALT-DESC:FMTTYPE=text/html:<!DOCTYPE HTML PUBLIC "-//W3C//DTD HTML 3.2//E
 N"><HTML><h2>Come Shop Thousands Of Amazing Items</h2>\n\n<p>At 406 Consig
 nary\,&nbsp\;we carefully inspect every item that enters our doors\, so yo
 u&#39\;ll only have the best to choose from!&nbsp\;Every spring and fall\,
  we have thousands of new {and gently-used} name-brand and boutique&nbsp\;
 items at 30-90% off retail! Hosting in six Montana cities&nbsp\;for three 
 days only\, save the date so you won&#39\;t&nbsp\;miss it!&nbsp\;</p>\n</H
 TML>
CREATED;TZID=America/Denver:20240531T160506
URL;VALUE=URI:https://flatheadcounty.gov/county-calendar/calendar-event-det
 ail/406-consignary
DTSTART;TZID=America/Denver:20240922T100000
DTEND;TZID=America/Denver:20240922T140000
SEQUENCE:1
END:VEVENT
END:VCALENDAR
