BEGIN:VCALENDAR
VERSION:2.0
PRODID:-//Sabre//Sabre VObject 4.5.8//EN
CALSCALE:GREGORIAN
BEGIN:VEVENT
UID:sabre-vobject-79dd8cc5-ba5a-4ac8-aafb-b5d8506a57fc
DTSTAMP:20260422T093310Z
SUMMARY:Local Emergency Planning Committee (LEPC)
DESCRIPTION:Quarterly meeting of the Flathead County Local Emergency Planni
 ng Committee. The meeting will be held in the EOC room at OES. 625 Timberw
 olf Parkway\, Kalispell MT 59901.\n\nPlease Note: The Agenda will be poste
 d prior to the meeting online\, and agenda items are subject to change.&nb
 sp\; The agenda will be posted no later than 48 hours prior to the meeting
 .&nbsp\;\n
X-ALT-DESC:FMTTYPE=text/html:<!DOCTYPE HTML PUBLIC "-//W3C//DTD HTML 3.2//E
 N"><HTML><p>Quarterly meeting of the Flathead County Local Emergency Plann
 ing Committee. The meeting will be held in the EOC room at OES. 625 Timber
 wolf Parkway\, Kalispell MT 59901.</p>\n\n<p>Please Note: The Agenda will 
 be posted prior to the meeting online\, and agenda items are subject to ch
 ange.&nbsp\; The agenda will be posted no later than 48 hours prior to the
  meeting.&nbsp\;</p>\n</HTML>
CREATED;TZID=America/Denver:20240531T161904
URL;VALUE=URI:https://flatheadcounty.gov/county-calendar/calendar-event-det
 ail/local-emergency-planning-committee-lepc
DTSTART;TZID=America/Denver:20240605T133000
DTEND;TZID=America/Denver:20240605T150000
SEQUENCE:0
END:VEVENT
END:VCALENDAR
