BEGIN:VCALENDAR
VERSION:2.0
PRODID:-//Sabre//Sabre VObject 4.5.8//EN
CALSCALE:GREGORIAN
BEGIN:VEVENT
UID:sabre-vobject-05d20b98-af79-4838-b6b0-13b1e2e141b5
DTSTAMP:20260420T125136Z
SUMMARY:Flu Clinic
DESCRIPTION:
X-ALT-DESC:FMTTYPE=text/html:<!DOCTYPE HTML PUBLIC "-//W3C//DTD HTML 3.2//E
 N"><HTML></HTML>
CREATED;TZID=America/Denver:20240531T163534
URL;VALUE=URI:https://flatheadcounty.gov/county-calendar/calendar-event-det
 ail/flu-clinic
DTSTART;TZID=America/Denver:20241009T000000
DTEND;TZID=America/Denver:20241009T235959
SEQUENCE:0
END:VEVENT
END:VCALENDAR
