BEGIN:VCALENDAR
VERSION:2.0
PRODID:-//Sabre//Sabre VObject 4.5.8//EN
CALSCALE:GREGORIAN
BEGIN:VEVENT
UID:sabre-vobject-217ac2a4-7999-423b-958d-d026ad9e91b2
DTSTAMP:20260420T080555Z
SUMMARY:Prairie Sisters Fall Show
DESCRIPTION:Join Us In Kalispell\, Montana!\n\nWhen: October 12\, 2024\, 10
 :00am-4:00pm\n\nWhere: Flathead County Fairgrounds\n\n265 N Meridian Rd\, 
 Kalispell\, MT 59901\n\nDetails: Tickets are $5 at the door.\n\nChildren 1
 2 and under are free.\n
X-ALT-DESC:FMTTYPE=text/html:<!DOCTYPE HTML PUBLIC "-//W3C//DTD HTML 3.2//E
 N"><HTML><h1>Join Us In Kalispell\, Montana!</h1>\n\n<p><strong>When:</str
 ong> October 12\, 2024\, 10:00am-4:00pm</p>\n\n<p><strong>Where:</strong> 
 Flathead County Fairgrounds</p>\n\n<p>265 N Meridian Rd\, Kalispell\, MT 5
 9901</p>\n\n<p><strong>Details:</strong> Tickets are $5 at the door.</p>\n
 \n<p>Children 12 and under are free.</p>\n</HTML>
CREATED;TZID=America/Denver:20240531T163905
URL;VALUE=URI:https://flatheadcounty.gov/county-calendar/calendar-event-det
 ail/prairie-sisters-fall-show
DTSTART;TZID=America/Denver:20241012T100000
DTEND;TZID=America/Denver:20241012T160000
SEQUENCE:0
END:VEVENT
END:VCALENDAR
