BEGIN:VCALENDAR
VERSION:2.0
PRODID:-//Sabre//Sabre VObject 4.5.8//EN
CALSCALE:GREGORIAN
BEGIN:VEVENT
UID:sabre-vobject-01beb3e3-6d0b-4f88-9053-f9c0c680cf1c
DTSTAMP:20260420T113649Z
SUMMARY:Fight Fraud Friday
DESCRIPTION:Topic: Medicare Fraud Prevention Week--Actions everyone can tak
 e! Come for lunch on Friday\, June 7th from 11:30 am-1:00 pm and stop by o
 ur information table to get the latest information on current scams and ti
 ps to stop fraud schemes. Our staff will have helpful information to avoid
  scams. Call 758-5730 for more details.\n
X-ALT-DESC:FMTTYPE=text/html:<!DOCTYPE HTML PUBLIC "-//W3C//DTD HTML 3.2//E
 N"><HTML><p>Topic: Medicare Fraud Prevention Week--Actions everyone can ta
 ke! Come for lunch on Friday\, June 7th from 11:30 am-1:00 pm and stop by 
 our information table to get the latest information on current scams and t
 ips to stop fraud schemes. Our staff will have helpful information to avoi
 d scams. Call 758-5730 for more details.</p>\n</HTML>
CREATED;TZID=America/Denver:20240603T094817
URL;VALUE=URI:https://flatheadcounty.gov/county-calendar/calendar-event-det
 ail/fight-fraud-friday-9
DTSTART;TZID=America/Denver:20240607T113000
DTEND;TZID=America/Denver:20240607T130000
SEQUENCE:0
END:VEVENT
END:VCALENDAR
