BEGIN:VCALENDAR
VERSION:2.0
PRODID:-//Sabre//Sabre VObject 4.5.8//EN
CALSCALE:GREGORIAN
BEGIN:VEVENT
UID:sabre-vobject-4d741733-f7b9-4368-b35f-cbcf4270267f
DTSTAMP:20260420T113544Z
SUMMARY:Play Expo - Kalispell
DESCRIPTION:Our summer kickoff is back! Join us anytime between 11am-4pm fo
 r art\, sensory play\, movement and science! Don&#39\;t forget to pick up 
 your Summer Reading Experience gameboard while you are here.\n\nImagineIF 
 Kalispell: Tuesday\, June 11\, 11am-4pm\n
X-ALT-DESC:FMTTYPE=text/html:<!DOCTYPE HTML PUBLIC "-//W3C//DTD HTML 3.2//E
 N"><HTML><p class="x" style="margin-bottom:8px"><span style="font-size:12p
 t"><span style="background:white"><span style="font-family:&quot\;Times Ne
 w Roman&quot\;\,serif"><span style="border:none windowtext 1.0pt\; font-si
 ze:10.0pt\; padding:0in"><span style="font-family:&quot\;Verdana&quot\;\,s
 ans-serif"><span style="color:#685c53">Our summer kickoff is back! Join us
  anytime between 11am-4pm for art\, sensory play\, movement and science! D
 on&#39\;t forget to pick up your Summer Reading Experience gameboard while
  you are here.</span></span></span></span></span></span></p>\n\n<p class="
 x" style="margin-left:48px"><span style="font-size:12pt"><span style="back
 ground:white"><span style="font-family:&quot\;Times New Roman&quot\;\,seri
 f"><b><span style="font-size:10.0pt"><span style="font-family:&quot\;Verda
 na&quot\;\,sans-serif"><span style="color:#685c53">ImagineIF Kalispell: </
 span></span></span></b><span style="border:none windowtext 1.0pt\; font-si
 ze:10.0pt\; padding:0in"><span style="font-family:&quot\;Verdana&quot\;\,s
 ans-serif"><span style="color:#685c53">Tuesday\, June 11</span></span></sp
 an><span style="font-size:10.0pt"><span style="font-family:&quot\;Verdana&
 quot\;\,sans-serif"><span style="color:#685c53">\, 11am-4pm</span></span><
 /span></span></span></span></p>\n</HTML>
CREATED;TZID=America/Denver:20240605T111105
URL;VALUE=URI:https://flatheadcounty.gov/county-calendar/calendar-event-det
 ail/play-expo-kalispell
DTSTART;TZID=America/Denver:20240611T110000
DTEND;TZID=America/Denver:20240611T160000
SEQUENCE:0
END:VEVENT
END:VCALENDAR
