BEGIN:VCALENDAR
VERSION:2.0
PRODID:-//Sabre//Sabre VObject 4.5.8//EN
CALSCALE:GREGORIAN
BEGIN:VEVENT
UID:sabre-vobject-27f8cf18-19eb-4d84-be52-c222583084b1
DTSTAMP:20260420T081510Z
SUMMARY:Fight Fraud Friday
DESCRIPTION:Stop for lunch and join us in the AOA Dining Room for helpful i
 nformation about cybersecurity. Includes tips to detect and avoid becoming
  a victim of technology fraud. We will also have current scam info and pre
 vention tips to protect Medicare beneficiaries. Call 406-758-2471 for more
  info.&nbsp\;\n
X-ALT-DESC:FMTTYPE=text/html:<!DOCTYPE HTML PUBLIC "-//W3C//DTD HTML 3.2//E
 N"><HTML><p>Stop for lunch and join us in the AOA Dining Room for helpful 
 information about cybersecurity. Includes tips to detect and avoid becomin
 g a victim of technology fraud. We will also have current scam info and pr
 evention tips to protect Medicare beneficiaries. Call 406-758-2471 for mor
 e info.&nbsp\;</p>\n</HTML>
CREATED;TZID=America/Denver:20240701T114250
URL;VALUE=URI:https://flatheadcounty.gov/county-calendar/calendar-event-det
 ail/fight-fraud-friday-10
DTSTART;TZID=America/Denver:20240712T113000
DTEND;TZID=America/Denver:20240712T130000
SEQUENCE:0
END:VEVENT
END:VCALENDAR
