BEGIN:VCALENDAR
VERSION:2.0
PRODID:-//Sabre//Sabre VObject 4.5.8//EN
CALSCALE:GREGORIAN
BEGIN:VEVENT
UID:sabre-vobject-36f01347-507c-4f38-9ed6-2f80fe0b26ce
DTSTAMP:20260420T080920Z
SUMMARY:Medicare 101
DESCRIPTION:This seminar will help&nbsp\; you gain a better understanding o
 f Medicare\, whether your currently on Medicare\, you&#39\;re about to bec
 ome eligible\, or you&#39\;re a caregiver for someone who is. For more inf
 o or to reserve your spot\, please call 406-758-5730.\n
X-ALT-DESC:FMTTYPE=text/html:<!DOCTYPE HTML PUBLIC "-//W3C//DTD HTML 3.2//E
 N"><HTML><p>This seminar will help&nbsp\; you gain a better understanding 
 of Medicare\, whether your currently on Medicare\, you&#39\;re about to be
 come eligible\, or you&#39\;re a caregiver for someone who is. For more in
 fo or to reserve your spot\, please call 406-758-5730.</p>\n</HTML>
CREATED;TZID=America/Denver:20240701T114738
URL;VALUE=URI:https://flatheadcounty.gov/county-calendar/calendar-event-det
 ail/medicare-101-5
DTSTART;TZID=America/Denver:20240723T130000
DTEND;TZID=America/Denver:20240723T150000
SEQUENCE:0
END:VEVENT
END:VCALENDAR
