BEGIN:VCALENDAR
VERSION:2.0
PRODID:-//Sabre//Sabre VObject 4.5.8//EN
CALSCALE:GREGORIAN
BEGIN:VEVENT
UID:sabre-vobject-ed34d541-e5de-4abd-a3d9-5f59f982f10c
DTSTAMP:20260420T113459Z
SUMMARY:Library Board Meeting 
DESCRIPTION:All meetings of the Board of Trustees are open to the public. R
 egular meetings are scheduled for the fourth Thursday of each month. \n\nS
 outh Campus Conference Room (40 11th St W\, 2nd Floor): August 22\, 6:30pm
 \n
X-ALT-DESC:FMTTYPE=text/html:<!DOCTYPE HTML PUBLIC "-//W3C//DTD HTML 3.2//E
 N"><HTML><p style="margin-bottom:8px"><span style="font-size:11pt"><span s
 tyle="font-family:Verdana\,sans-serif"><span style="font-size:10.0pt"><spa
 n style="color:#685c53">All meetings of the Board of Trustees are open to 
 the public. Regular meetings are scheduled for the fourth Thursday of each
  month. </span></span></span></span></p>\n\n<p style="text-indent:.5in"><s
 pan style="font-size:11pt"><span style="font-family:Verdana\,sans-serif"><
 b><span style="font-size:10.0pt"><span style="color:#685c53">South Campus 
 Conference Room (40 11<sup>th</sup> St W\, 2<sup>nd</sup> Floor): </span><
 /span></b><span style="font-size:10.0pt"><span style="color:#685c53">Augus
 t 22\, 6:30pm</span></span></span></span></p>\n</HTML>
CREATED;TZID=America/Denver:20240815T094542
URL;VALUE=URI:https://flatheadcounty.gov/county-calendar/calendar-event-det
 ail/library-board-meeting-2
DTSTART;TZID=America/Denver:20240725T183000
DTEND;TZID=America/Denver:20240725T210000
SEQUENCE:0
END:VEVENT
BEGIN:VEVENT
UID:sabre-vobject-7877fd34-ea31-4bb8-93ba-ad8c0bc7430b
DTSTAMP:20260420T113459Z
SUMMARY:Library Board Meeting 
DESCRIPTION:All meetings of the Board of Trustees are open to the public. R
 egular meetings are scheduled for the fourth Thursday of each month. \n\nS
 outh Campus Conference Room (40 11th St W\, 2nd Floor): August 22\, 6:30pm
 \n
X-ALT-DESC:FMTTYPE=text/html:<!DOCTYPE HTML PUBLIC "-//W3C//DTD HTML 3.2//E
 N"><HTML><p style="margin-bottom:8px"><span style="font-size:11pt"><span s
 tyle="font-family:Verdana\,sans-serif"><span style="font-size:10.0pt"><spa
 n style="color:#685c53">All meetings of the Board of Trustees are open to 
 the public. Regular meetings are scheduled for the fourth Thursday of each
  month. </span></span></span></span></p>\n\n<p style="text-indent:.5in"><s
 pan style="font-size:11pt"><span style="font-family:Verdana\,sans-serif"><
 b><span style="font-size:10.0pt"><span style="color:#685c53">South Campus 
 Conference Room (40 11<sup>th</sup> St W\, 2<sup>nd</sup> Floor): </span><
 /span></b><span style="font-size:10.0pt"><span style="color:#685c53">Augus
 t 22\, 6:30pm</span></span></span></span></p>\n</HTML>
CREATED;TZID=America/Denver:20240815T094542
URL;VALUE=URI:https://flatheadcounty.gov/county-calendar/calendar-event-det
 ail/library-board-meeting-2
DTSTART;TZID=America/Denver:20240822T183000
DTEND;TZID=America/Denver:20240822T210000
SEQUENCE:1
END:VEVENT
END:VCALENDAR
