BEGIN:VCALENDAR
VERSION:2.0
PRODID:-//Sabre//Sabre VObject 4.5.8//EN
CALSCALE:GREGORIAN
BEGIN:VEVENT
UID:sabre-vobject-d8b20295-c58e-4035-b903-9add4dd00128
DTSTAMP:20260420T114122Z
SUMMARY:Volunteer Park - Lacon
DESCRIPTION:Perrigo Birthday Party\n
X-ALT-DESC:FMTTYPE=text/html:<!DOCTYPE HTML PUBLIC "-//W3C//DTD HTML 3.2//E
 N"><HTML><p>Perrigo Birthday Party</p>\n</HTML>
CREATED;TZID=America/Denver:20240717T083154
URL;VALUE=URI:https://flatheadcounty.gov/county-calendar/calendar-event-det
 ail/volunteer-park-lacon
DTSTART;TZID=America/Denver:20240718T000000
DTEND;TZID=America/Denver:20240718T235959
SEQUENCE:0
END:VEVENT
END:VCALENDAR
