BEGIN:VCALENDAR
VERSION:2.0
PRODID:-//Sabre//Sabre VObject 4.5.8//EN
CALSCALE:GREGORIAN
BEGIN:VEVENT
UID:sabre-vobject-4458e8aa-a855-411f-a430-49681e4bd1c8
DTSTAMP:20260420T114216Z
SUMMARY:Elder Justice Educational Sessions
DESCRIPTION:The 10:30 session is designed for older adults\, &quot\;recogni
 zing your rights and protecting yourself&quot\;. The 1:00 pm session is ge
 ared towards service provider\, &quot\;advocating for older adults&quot\;.
  To sign up\, please call 406-758-5730.\n
X-ALT-DESC:FMTTYPE=text/html:<!DOCTYPE HTML PUBLIC "-//W3C//DTD HTML 3.2//E
 N"><HTML><p>The 10:30 session is designed for older adults\, &quot\;recogn
 izing your rights and protecting yourself&quot\;. The 1:00 pm session is g
 eared towards service provider\, &quot\;advocating for older adults&quot\;
 . To sign up\, please call 406-758-5730.</p>\n</HTML>
CREATED;TZID=America/Denver:20240718T115003
URL;VALUE=URI:https://flatheadcounty.gov/county-calendar/calendar-event-det
 ail/elder-justice-educational-sessions
DTSTART;TZID=America/Denver:20240808T103000
DTEND;TZID=America/Denver:20240808T130000
SEQUENCE:0
END:VEVENT
END:VCALENDAR
