BEGIN:VCALENDAR
VERSION:2.0
PRODID:-//Sabre//Sabre VObject 4.5.8//EN
CALSCALE:GREGORIAN
BEGIN:VEVENT
UID:sabre-vobject-0c92948a-24ba-4dc9-be6d-a8a328feb122
DTSTAMP:20260420T084457Z
SUMMARY:New Bigfork Library Ribbon Cutting Ceremony and Opening
DESCRIPTION:Join us for a Ribbon Cutting Ceremony hosted by the Bigfork Are
 a Chamber of Commerce at the new Bigfork Library located at 186 Bridge Str
 eet in Bigfork at 9:30am on August 6th. Library staff and members of the L
 ibrary Foundation will speak at the event to commemorate the years of work
  and collaboration it has taken to make this project a success.\n\nThe new
  Bigfork Library will open its doors officially at 10am with a reception t
 o follow.\n\n186 Bridge St in Bigfork: Tuesday\, August 6\n\nRibbon Cuttin
 g Ceremony: 9:30am\, Library Opens: 10am\n
X-ALT-DESC:FMTTYPE=text/html:<!DOCTYPE HTML PUBLIC "-//W3C//DTD HTML 3.2//E
 N"><HTML><p style="margin-bottom:8px"><span style="font-size:11pt"><span s
 tyle="font-family:Verdana\,sans-serif"><span style="font-size:10.0pt"><spa
 n style="color:#685c53">Join us for a Ribbon Cutting Ceremony hosted by th
 e Bigfork Area Chamber of Commerce at the new Bigfork Library located at 1
 86 Bridge Street in Bigfork at 9:30am on August 6th. Library staff and mem
 bers of the Library Foundation will speak at the event to commemorate the 
 years of work and collaboration it has taken to make this project a succes
 s.</span></span></span></span></p>\n\n<p style="margin-bottom:8px"><span s
 tyle="font-size:11pt"><span style="font-family:Verdana\,sans-serif"><span 
 style="font-size:10.0pt"><span style="color:#685c53">The new Bigfork Libra
 ry will open its doors officially at 10am with a reception to follow.</spa
 n></span></span></span></p>\n\n<p style="margin-left:48px"><span style="fo
 nt-size:11pt"><span style="font-family:Verdana\,sans-serif"><b><span style
 ="font-size:10.0pt"><span style="background:white"><span style="color:#685
 c53">186 Bridge St in Bigfork: </span></span></span></b><span style="font-
 size:10.0pt"><span style="background:white"><span style="color:#685c53">Tu
 esday\, August 6</span></span></span></span></span></p>\n\n<p style="margi
 n-left:48px"><span style="font-size:11pt"><span style="font-family:Verdana
 \,sans-serif"><b><span style="font-size:10.0pt"><span style="background:wh
 ite"><span style="color:#685c53">Ribbon Cutting Ceremony: 9:30am\, Library
  Opens: 10am</span></span></span></b></span></span></p>\n</HTML>
CREATED;TZID=America/Denver:20240725T134424
URL;VALUE=URI:https://flatheadcounty.gov/county-calendar/calendar-event-det
 ail/new-bigfork-library-ribbon-cutting-ceremony-and-opening
DTSTART;TZID=America/Denver:20240806T093000
DTEND;TZID=America/Denver:20240806T103000
SEQUENCE:0
END:VEVENT
END:VCALENDAR
