BEGIN:VCALENDAR
VERSION:2.0
PRODID:-//Sabre//Sabre VObject 4.5.8//EN
CALSCALE:GREGORIAN
BEGIN:VEVENT
UID:sabre-vobject-997498dd-ed39-4a70-b96d-fc2ff41e69ea
DTSTAMP:20260420T113914Z
SUMMARY:Fight Fraud Friday
DESCRIPTION:Stop for lunch in the AOA Dining Room between 11:30 am-1:00 pm 
 and get details and&nbsp\; how to protect yourself from the latest Medicar
 e fraud schemes. Call 406-758-2471 for more information.\n
X-ALT-DESC:FMTTYPE=text/html:<!DOCTYPE HTML PUBLIC "-//W3C//DTD HTML 3.2//E
 N"><HTML><p>Stop for lunch in the AOA Dining Room between 11:30 am-1:00 pm
  and get details and&nbsp\; how to protect yourself from the latest Medica
 re fraud schemes. Call 406-758-2471 for more information.</p>\n</HTML>
CREATED;TZID=America/Denver:20240802T164130
URL;VALUE=URI:https://flatheadcounty.gov/county-calendar/calendar-event-det
 ail/fight-fraud-friday-11
DTSTART;TZID=America/Denver:20240809T113000
DTEND;TZID=America/Denver:20240809T130000
SEQUENCE:0
END:VEVENT
END:VCALENDAR
