BEGIN:VCALENDAR
VERSION:2.0
PRODID:-//Sabre//Sabre VObject 4.5.8//EN
CALSCALE:GREGORIAN
BEGIN:VEVENT
UID:sabre-vobject-4e6e3d93-47d2-4c65-802d-5882bf25342e
DTSTAMP:20260420T081053Z
SUMMARY:Planning Board Workshop
DESCRIPTION:We invite you to participate in an open and engaging workshop f
 ocused on updating the Flathead County Zoning Regulations. Your input is c
 rucial as we discuss ways to provide more affordable housing options by re
 vising our zoning rules.\n\nDiscussion Topics:\n\n\n	Parking requirements\
 n	Setbacks\n	Height restrictions\n	Number of permitted dwellings in certai
 n zones\n\n\nCome share your experiences and ideas. Whether you have exper
 tise with zoning regulations or have faced challenges with them\, your ins
 ights will be invaluable. Let&#39\;s work together to create a more inclus
 ive and flexible zoning framework that benefits everyone in our community.
 \n\nJoin us on August 14th and be part of the conversation. \n
X-ALT-DESC:FMTTYPE=text/html:<!DOCTYPE HTML PUBLIC "-//W3C//DTD HTML 3.2//E
 N"><HTML><p><span style="font-size:11pt"><span style="font-family:Aptos\,s
 ans-serif"><span calibri="" style="font-family:">We invite you to particip
 ate in an open and engaging workshop focused on updating the Flathead Coun
 ty Zoning Regulations. Your input is crucial as we discuss ways to provide
  more affordable housing options by revising our zoning rules.</span></spa
 n></span></p>\n\n<p><span style="font-size:11pt"><span style="font-family:
 Aptos\,sans-serif"><b><span calibri="" style="font-family:">Discussion Top
 ics:</span></b></span></span></p>\n\n<ul style="margin-bottom:11px">\n	<li
  style="margin-bottom:11px"><span style="font-size:11pt"><span style="line
 -height:105%"><span style="tab-stops:list .5in"><span style="font-family:A
 ptos\,sans-serif"><span calibri="" style="font-family:">Parking requiremen
 ts</span></span></span></span></span></li>\n	<li style="margin-bottom:11px
 "><span style="font-size:11pt"><span style="line-height:105%"><span style=
 "tab-stops:list .5in"><span style="font-family:Aptos\,sans-serif"><span ca
 libri="" style="font-family:">Setbacks</span></span></span></span></span><
 /li>\n	<li style="margin-bottom:11px"><span style="font-size:11pt"><span s
 tyle="line-height:105%"><span style="tab-stops:list .5in"><span style="fon
 t-family:Aptos\,sans-serif"><span calibri="" style="font-family:">Height r
 estrictions</span></span></span></span></span></li>\n	<li style="margin-bo
 ttom:11px"><span style="font-size:11pt"><span style="line-height:105%"><sp
 an style="tab-stops:list .5in"><span style="font-family:Aptos\,sans-serif"
 ><span calibri="" style="font-family:">Number of permitted dwellings in ce
 rtain zones</span></span></span></span></span></li>\n</ul>\n\n<p><span sty
 le="font-size:11pt"><span style="font-family:Aptos\,sans-serif"><span cali
 bri="" style="font-family:">Come share your experiences and ideas. Whether
  you have expertise with zoning regulations or have faced challenges with 
 them\, your insights will be invaluable. Let&#39\;s work together to creat
 e a more inclusive and flexible zoning framework that benefits everyone in
  our community.</span></span></span></p>\n\n<p><span style="font-size:11pt
 "><span style="font-family:Aptos\,sans-serif"><span calibri="" style="font
 -family:">Join us on August 14th and be part of the conversation. </span><
 /span></span></p>\n</HTML>
CREATED;TZID=America/Denver:20240807T104422
URL;VALUE=URI:https://flatheadcounty.gov/county-calendar/calendar-event-det
 ail/planning-board-workshop-10
DTSTART;TZID=America/Denver:20240814T180000
DTEND;TZID=America/Denver:20240814T110000
SEQUENCE:0
END:VEVENT
END:VCALENDAR
