BEGIN:VCALENDAR
VERSION:2.0
PRODID:-//Sabre//Sabre VObject 4.5.8//EN
CALSCALE:GREGORIAN
BEGIN:VEVENT
UID:sabre-vobject-a98995b1-92bd-4037-8dc4-34b5e5de6aaa
DTSTAMP:20260420T113457Z
SUMMARY:Planning Board Workshop - FAIRGROUNDS
DESCRIPTION:🏘️ Columbia Falls Rural Zoning Workshop 🏘️\n\nJoin us
  for an important workshop with the Flathead County Planning Board as we d
 ive into the future of the Columbia Falls Rural Zoning. This is your chanc
 e to have your voice heard and be part of shaping our community!\n\n📅 W
 hen: September 11\, 2024\, at 6:00 PM\n📍 Where: Flathead County Fairgro
 unds\, Trade Center Building\, 265 North Meridian Road\, Kalispell\, MT\n\
 nDon&#39\;t miss this opportunity to engage and discuss the provisions of 
 a future Zoning District. Your input matters! \n
X-ALT-DESC:FMTTYPE=text/html:<!DOCTYPE HTML PUBLIC "-//W3C//DTD HTML 3.2//E
 N"><HTML><p><span style="font-size:12pt"><span style="font-family:Aptos\,s
 ans-serif"><span emoji="" segoe="" style="font-family:" ui="">🏘️</spa
 n><span new="" roman="" style="font-family:" times=""> <b>Columbia Falls R
 ural Zoning Workshop</b> </span><span emoji="" segoe="" style="font-family
 :" ui="">🏘️</span></span></span></p>\n\n<p><span style="font-size:12p
 t"><span style="font-family:Aptos\,sans-serif"><span new="" roman="" style
 ="font-family:" times="">Join us for an important workshop with the Flathe
 ad County Planning Board as we dive into the future of the Columbia Falls 
 Rural Zoning. This is your chance to have your voice heard and be part of 
 shaping our community!</span></span></span></p>\n\n<p><span style="font-si
 ze:12pt"><span style="font-family:Aptos\,sans-serif"><span emoji="" segoe=
 "" style="font-family:" ui="">📅</span><span new="" roman="" style="font
 -family:" times=""> <b>When:</b> September 11\, 2024\, at 6:00 PM</span><b
 r />\n<span emoji="" segoe="" style="font-family:" ui="">📍</span><span 
 new="" roman="" style="font-family:" times=""> <b>Where:</b> Flathead Coun
 ty Fairgrounds\, Trade Center Building\, 265 North Meridian Road\, Kalispe
 ll\, MT</span></span></span></p>\n\n<p><span style="font-size:12pt"><span 
 style="font-family:Aptos\,sans-serif"><span new="" roman="" style="font-fa
 mily:" times="">Don&#39\;t miss this opportunity to engage and discuss the
  provisions of a future Zoning District. Your input matters! </span></span
 ></span></p>\n</HTML>
CREATED;TZID=America/Denver:20240829T093648
URL;VALUE=URI:https://flatheadcounty.gov/county-calendar/calendar-event-det
 ail/planning-board-workshop-11
DTSTART;TZID=America/Denver:20240911T180000
DTEND;TZID=America/Denver:20240911T230000
SEQUENCE:0
END:VEVENT
END:VCALENDAR
