BEGIN:VCALENDAR
VERSION:2.0
PRODID:-//Sabre//Sabre VObject 4.5.8//EN
CALSCALE:GREGORIAN
BEGIN:VEVENT
UID:sabre-vobject-3367a0f9-4630-4a33-a46b-e620f4a67581
DTSTAMP:20260420T075820Z
SUMMARY:Medicare 101 Class
DESCRIPTION:This seminar will help you gain a better understanding of Medic
 are\, whether you&#39\;re currently on Medicare\, you&#39\;re about to bec
 ome eligible or you&#39\;re a caregiver for someone who is. Call (406) 758
 -5730 to reserve your seat.\n
X-ALT-DESC:FMTTYPE=text/html:<!DOCTYPE HTML PUBLIC "-//W3C//DTD HTML 3.2//E
 N"><HTML><p>This seminar will help you gain a better understanding of Medi
 care\, whether you&#39\;re currently on Medicare\, you&#39\;re about to be
 come eligible or you&#39\;re a caregiver for someone who is. Call (406) 75
 8-5730 to reserve your seat.</p>\n</HTML>
CREATED;TZID=America/Denver:20240814T093603
URL;VALUE=URI:https://flatheadcounty.gov/county-calendar/calendar-event-det
 ail/medicare-101-class
DTSTART;TZID=America/Denver:20240827T130000
DTEND;TZID=America/Denver:20240827T150000
SEQUENCE:0
END:VEVENT
END:VCALENDAR
