BEGIN:VCALENDAR
VERSION:2.0
PRODID:-//Sabre//Sabre VObject 4.5.8//EN
CALSCALE:GREGORIAN
BEGIN:VEVENT
UID:sabre-vobject-e8d95624-89d3-4787-90d5-6c2abce9aa32
DTSTAMP:20260420T113943Z
SUMMARY:Bigfork Land Use Advisory Committee (BLUAC)
DESCRIPTION:
X-ALT-DESC:FMTTYPE=text/html:<!DOCTYPE HTML PUBLIC "-//W3C//DTD HTML 3.2//E
 N"><HTML></HTML>
CREATED;TZID=America/Denver:20240815T115059
URL;VALUE=URI:https://flatheadcounty.gov/county-calendar/calendar-event-det
 ail/bigfork-land-use-advisory-committee-bluac-1
DTSTART;TZID=America/Denver:20240829T160000
DTEND;TZID=America/Denver:20240829T180000
SEQUENCE:0
END:VEVENT
END:VCALENDAR
