BEGIN:VCALENDAR
VERSION:2.0
PRODID:-//Sabre//Sabre VObject 4.5.8//EN
CALSCALE:GREGORIAN
BEGIN:VEVENT
UID:sabre-vobject-5822df13-88e3-482f-87ba-b375adc098a8
DTSTAMP:20260420T153222Z
SUMMARY:Alzheimer's & Dementia Workshop
DESCRIPTION:Empowering the Caregiver: Attend any or all sessions as your sc
 hedule allows. Topics: Diagnosis of dementia\, The Empowered Caregiver Tra
 ining\, Driving and Dementia\, AOA Resources and Self-care for caregivers.
  Call (406) 318-8242 or email meawilliams@alz.org to register.\n
X-ALT-DESC:FMTTYPE=text/html:<!DOCTYPE HTML PUBLIC "-//W3C//DTD HTML 3.2//E
 N"><HTML><p>Empowering the Caregiver: Attend any or all sessions as your s
 chedule allows. Topics: Diagnosis of dementia\, The Empowered Caregiver Tr
 aining\, Driving and Dementia\, AOA Resources and Self-care for caregivers
 . Call (406) 318-8242 or email meawilliams@alz.org to register.</p>\n</HTM
 L>
CREATED;TZID=America/Denver:20240819T092612
URL;VALUE=URI:https://flatheadcounty.gov/county-calendar/calendar-event-det
 ail/alzheimers-and-dementia-workshop-1
DTSTART;TZID=America/Denver:20240927T100000
DTEND;TZID=America/Denver:20240927T150000
SEQUENCE:0
END:VEVENT
END:VCALENDAR
