BEGIN:VCALENDAR
VERSION:2.0
PRODID:-//Sabre//Sabre VObject 4.5.8//EN
CALSCALE:GREGORIAN
BEGIN:VEVENT
UID:sabre-vobject-ed6c6493-37d3-4e03-90f7-1b9a0061beed
DTSTAMP:20260420T114051Z
SUMMARY:Advisory Council Meeting
DESCRIPTION:Flathead County Agency on Aging Advisory Council meets 2-3:30 p
 m in the South Campus Conference Room. Address is 40 11th ST W\, second fl
 oor. Public is welcome. Please call 758-5730 for more information.\n
X-ALT-DESC:FMTTYPE=text/html:<!DOCTYPE HTML PUBLIC "-//W3C//DTD HTML 3.2//E
 N"><HTML><p>Flathead County Agency on Aging Advisory Council meets 2-3:30 
 pm in the South Campus Conference Room. Address is 40 11th ST W\, second f
 loor. Public is welcome. Please call 758-5730 for more information.</p>\n<
 /HTML>
CREATED;TZID=America/Denver:20240910T113047
URL;VALUE=URI:https://flatheadcounty.gov/county-calendar/calendar-event-det
 ail/advisory-council-meeting
DTSTART;TZID=America/Denver:20240912T140000
DTEND;TZID=America/Denver:20240912T153000
SEQUENCE:0
END:VEVENT
END:VCALENDAR
