BEGIN:VCALENDAR
VERSION:2.0
PRODID:-//Sabre//Sabre VObject 4.5.8//EN
CALSCALE:GREGORIAN
BEGIN:VEVENT
UID:sabre-vobject-966fd336-720f-4bde-9e17-e9ec885c7fc8
DTSTAMP:20260420T080352Z
SUMMARY:EMS Advisory Committe
DESCRIPTION:Meeting of the Flathead County EMS Advisory Committee\, a sub g
 roup of the Flathead County EMS Administrative Board.\n
X-ALT-DESC:FMTTYPE=text/html:<!DOCTYPE HTML PUBLIC "-//W3C//DTD HTML 3.2//E
 N"><HTML><p>Meeting of the Flathead County EMS Advisory Committee\, a sub 
 group of the Flathead County EMS Administrative Board.</p>\n</HTML>
CREATED;TZID=America/Denver:20241003T103514
URL;VALUE=URI:https://flatheadcounty.gov/county-calendar/calendar-event-det
 ail/ems-advisory-committe-1
DTSTART;TZID=America/Denver:20241007T173000
DTEND;TZID=America/Denver:20241007T190000
SEQUENCE:0
END:VEVENT
END:VCALENDAR
