BEGIN:VCALENDAR
VERSION:2.0
PRODID:-//Sabre//Sabre VObject 4.5.8//EN
CALSCALE:GREGORIAN
BEGIN:VEVENT
UID:sabre-vobject-5b6076cb-3ec2-416c-8b35-99d0ebd21969
DTSTAMP:20260420T114050Z
SUMMARY:Pear Pop Up Shop
DESCRIPTION:Boutique Consignment Event\n
X-ALT-DESC:FMTTYPE=text/html:<!DOCTYPE HTML PUBLIC "-//W3C//DTD HTML 3.2//E
 N"><HTML><p>Boutique Consignment Event</p>\n</HTML>
CREATED;TZID=America/Denver:20241004T154319
URL;VALUE=URI:https://flatheadcounty.gov/county-calendar/calendar-event-det
 ail/pear-pop-shop
DTSTART;TZID=America/Denver:20241107T180000
DTEND;TZID=America/Denver:20241107T220000
SEQUENCE:0
END:VEVENT
BEGIN:VEVENT
UID:sabre-vobject-9469a05f-7d9a-448e-ac0c-b9f5ec5717cf
DTSTAMP:20260420T114050Z
SUMMARY:Pear Pop Up Shop
DESCRIPTION:Boutique Consignment Event\n
X-ALT-DESC:FMTTYPE=text/html:<!DOCTYPE HTML PUBLIC "-//W3C//DTD HTML 3.2//E
 N"><HTML><p>Boutique Consignment Event</p>\n</HTML>
CREATED;TZID=America/Denver:20241004T154319
URL;VALUE=URI:https://flatheadcounty.gov/county-calendar/calendar-event-det
 ail/pear-pop-shop
DTSTART;TZID=America/Denver:20241108T110000
DTEND;TZID=America/Denver:20241108T200000
SEQUENCE:1
END:VEVENT
BEGIN:VEVENT
UID:sabre-vobject-7f383c85-5a6a-448f-b29e-07501c57dd9e
DTSTAMP:20260420T114050Z
SUMMARY:Pear Pop Up Shop
DESCRIPTION:Boutique Consignment Event\n
X-ALT-DESC:FMTTYPE=text/html:<!DOCTYPE HTML PUBLIC "-//W3C//DTD HTML 3.2//E
 N"><HTML><p>Boutique Consignment Event</p>\n</HTML>
CREATED;TZID=America/Denver:20241004T154319
URL;VALUE=URI:https://flatheadcounty.gov/county-calendar/calendar-event-det
 ail/pear-pop-shop
DTSTART;TZID=America/Denver:20241109T110000
DTEND;TZID=America/Denver:20241109T200000
SEQUENCE:2
END:VEVENT
END:VCALENDAR
