BEGIN:VCALENDAR
VERSION:2.0
PRODID:-//Sabre//Sabre VObject 4.5.8//EN
CALSCALE:GREGORIAN
BEGIN:VEVENT
UID:sabre-vobject-b8cc823f-e4de-46d6-80ba-d6f8e47d081d
DTSTAMP:20260420T113556Z
SUMMARY:Lakeside Community Council (LCC) Meeting
DESCRIPTION:
X-ALT-DESC:FMTTYPE=text/html:<!DOCTYPE HTML PUBLIC "-//W3C//DTD HTML 3.2//E
 N"><HTML></HTML>
CREATED;TZID=America/Denver:20241017T092956
URL;VALUE=URI:https://flatheadcounty.gov/county-calendar/calendar-event-det
 ail/lakeside-community-council-lcc-meeting-3
DTSTART;TZID=America/Denver:20201029T190000
DTEND;TZID=America/Denver:20201029T210000
SEQUENCE:0
END:VEVENT
END:VCALENDAR
