BEGIN:VCALENDAR
VERSION:2.0
PRODID:-//Sabre//Sabre VObject 4.5.8//EN
CALSCALE:GREGORIAN
BEGIN:VEVENT
UID:sabre-vobject-c8052247-8e90-4127-851d-22aa31b02f4c
DTSTAMP:20260420T113456Z
SUMMARY:Lakeside Community Council (LCC) Meeting
DESCRIPTION:
X-ALT-DESC:FMTTYPE=text/html:<!DOCTYPE HTML PUBLIC "-//W3C//DTD HTML 3.2//E
 N"><HTML></HTML>
CREATED;TZID=America/Denver:20241017T093114
URL;VALUE=URI:https://flatheadcounty.gov/county-calendar/calendar-event-det
 ail/lakeside-community-council-lcc-meeting-4
DTSTART;TZID=America/Denver:20241029T190000
DTEND;TZID=America/Denver:20241029T210000
SEQUENCE:0
END:VEVENT
END:VCALENDAR
