BEGIN:VCALENDAR
VERSION:2.0
PRODID:-//Sabre//Sabre VObject 4.5.8//EN
CALSCALE:GREGORIAN
BEGIN:VEVENT
UID:sabre-vobject-59022581-3967-4da2-932c-4ebe2512ce8a
DTSTAMP:20260422T094134Z
SUMMARY:Genealogy Class
DESCRIPTION:Join instructors Diane Denney and Susie Hill from Kalispell&rsq
 uo\;s FamilySearch Center for genealogy classes geared toward individuals 
 and families aged 13 and older.&nbsp\;Learn personal researching skills\, 
 connect with family history groups\, and get expert help navigating geneal
 ogical sites.&nbsp\;This program will repeat every 2nd and 4th Tuesday eac
 h month in Bigfork\, with two classes each day it&rsquo\;s offered.\n\nBig
 fork Community Room:&nbsp\;November 12 &amp\; 26\, 10:30am-12:30pm &amp\; 
 4pm-5:45pm\n
X-ALT-DESC:FMTTYPE=text/html:<!DOCTYPE HTML PUBLIC "-//W3C//DTD HTML 3.2//E
 N"><HTML><p style="margin-bottom:8px"><span style="font-size:11pt"><span s
 tyle="font-family:Verdana\,sans-serif"><span style="font-size:10.0pt"><spa
 n style="color:#685c53">Join instructors Diane Denney and Susie Hill from 
 Kalispell&rsquo\;s FamilySearch Center for genealogy classes geared toward
  individuals and families aged 13 and older.&nbsp\;Learn personal research
 ing skills\, connect with family history groups\, and get expert help navi
 gating genealogical sites.&nbsp\;This program will repeat every 2<sup>nd</
 sup> and 4<sup>th</sup> Tuesday each month in Bigfork\, with two classes e
 ach day it&rsquo\;s offered.</span></span></span></span></p>\n\n<p style="
 margin-left:48px"><span style="font-size:11pt"><span style="font-family:Ve
 rdana\,sans-serif"><b><span style="font-size:10.0pt"><span style="color:#6
 85c53">Bigfork Community Room:&nbsp\;</span></span></b><span style="font-s
 ize:10.0pt"><span style="color:#685c53">November 12 &amp\; 26\, 10:30am-12
 :30pm &amp\; 4pm-5:45pm</span></span></span></span></p>\n</HTML>
CREATED;TZID=America/Denver:20241025T102920
URL;VALUE=URI:https://flatheadcounty.gov/county-calendar/calendar-event-det
 ail/genealogy-class
DTSTART;TZID=America/Denver:20241112T103000
DTEND;TZID=America/Denver:20241112T123000
SEQUENCE:0
END:VEVENT
BEGIN:VEVENT
UID:sabre-vobject-ad81cb16-36b3-4320-84c3-e383bb49ee84
DTSTAMP:20260422T094134Z
SUMMARY:Genealogy Class
DESCRIPTION:Join instructors Diane Denney and Susie Hill from Kalispell&rsq
 uo\;s FamilySearch Center for genealogy classes geared toward individuals 
 and families aged 13 and older.&nbsp\;Learn personal researching skills\, 
 connect with family history groups\, and get expert help navigating geneal
 ogical sites.&nbsp\;This program will repeat every 2nd and 4th Tuesday eac
 h month in Bigfork\, with two classes each day it&rsquo\;s offered.\n\nBig
 fork Community Room:&nbsp\;November 12 &amp\; 26\, 10:30am-12:30pm &amp\; 
 4pm-5:45pm\n
X-ALT-DESC:FMTTYPE=text/html:<!DOCTYPE HTML PUBLIC "-//W3C//DTD HTML 3.2//E
 N"><HTML><p style="margin-bottom:8px"><span style="font-size:11pt"><span s
 tyle="font-family:Verdana\,sans-serif"><span style="font-size:10.0pt"><spa
 n style="color:#685c53">Join instructors Diane Denney and Susie Hill from 
 Kalispell&rsquo\;s FamilySearch Center for genealogy classes geared toward
  individuals and families aged 13 and older.&nbsp\;Learn personal research
 ing skills\, connect with family history groups\, and get expert help navi
 gating genealogical sites.&nbsp\;This program will repeat every 2<sup>nd</
 sup> and 4<sup>th</sup> Tuesday each month in Bigfork\, with two classes e
 ach day it&rsquo\;s offered.</span></span></span></span></p>\n\n<p style="
 margin-left:48px"><span style="font-size:11pt"><span style="font-family:Ve
 rdana\,sans-serif"><b><span style="font-size:10.0pt"><span style="color:#6
 85c53">Bigfork Community Room:&nbsp\;</span></span></b><span style="font-s
 ize:10.0pt"><span style="color:#685c53">November 12 &amp\; 26\, 10:30am-12
 :30pm &amp\; 4pm-5:45pm</span></span></span></span></p>\n</HTML>
CREATED;TZID=America/Denver:20241025T102920
URL;VALUE=URI:https://flatheadcounty.gov/county-calendar/calendar-event-det
 ail/genealogy-class
DTSTART;TZID=America/Denver:20241112T160000
DTEND;TZID=America/Denver:20241112T174500
SEQUENCE:1
END:VEVENT
BEGIN:VEVENT
UID:sabre-vobject-5ce359bf-d0d9-4000-9fd5-5df5de08bc9f
DTSTAMP:20260422T094134Z
SUMMARY:Genealogy Class
DESCRIPTION:Join instructors Diane Denney and Susie Hill from Kalispell&rsq
 uo\;s FamilySearch Center for genealogy classes geared toward individuals 
 and families aged 13 and older.&nbsp\;Learn personal researching skills\, 
 connect with family history groups\, and get expert help navigating geneal
 ogical sites.&nbsp\;This program will repeat every 2nd and 4th Tuesday eac
 h month in Bigfork\, with two classes each day it&rsquo\;s offered.\n\nBig
 fork Community Room:&nbsp\;November 12 &amp\; 26\, 10:30am-12:30pm &amp\; 
 4pm-5:45pm\n
X-ALT-DESC:FMTTYPE=text/html:<!DOCTYPE HTML PUBLIC "-//W3C//DTD HTML 3.2//E
 N"><HTML><p style="margin-bottom:8px"><span style="font-size:11pt"><span s
 tyle="font-family:Verdana\,sans-serif"><span style="font-size:10.0pt"><spa
 n style="color:#685c53">Join instructors Diane Denney and Susie Hill from 
 Kalispell&rsquo\;s FamilySearch Center for genealogy classes geared toward
  individuals and families aged 13 and older.&nbsp\;Learn personal research
 ing skills\, connect with family history groups\, and get expert help navi
 gating genealogical sites.&nbsp\;This program will repeat every 2<sup>nd</
 sup> and 4<sup>th</sup> Tuesday each month in Bigfork\, with two classes e
 ach day it&rsquo\;s offered.</span></span></span></span></p>\n\n<p style="
 margin-left:48px"><span style="font-size:11pt"><span style="font-family:Ve
 rdana\,sans-serif"><b><span style="font-size:10.0pt"><span style="color:#6
 85c53">Bigfork Community Room:&nbsp\;</span></span></b><span style="font-s
 ize:10.0pt"><span style="color:#685c53">November 12 &amp\; 26\, 10:30am-12
 :30pm &amp\; 4pm-5:45pm</span></span></span></span></p>\n</HTML>
CREATED;TZID=America/Denver:20241025T102920
URL;VALUE=URI:https://flatheadcounty.gov/county-calendar/calendar-event-det
 ail/genealogy-class
DTSTART;TZID=America/Denver:20241126T103000
DTEND;TZID=America/Denver:20241126T123000
SEQUENCE:2
END:VEVENT
BEGIN:VEVENT
UID:sabre-vobject-23aab270-245f-41c4-8523-76b113101390
DTSTAMP:20260422T094134Z
SUMMARY:Genealogy Class
DESCRIPTION:Join instructors Diane Denney and Susie Hill from Kalispell&rsq
 uo\;s FamilySearch Center for genealogy classes geared toward individuals 
 and families aged 13 and older.&nbsp\;Learn personal researching skills\, 
 connect with family history groups\, and get expert help navigating geneal
 ogical sites.&nbsp\;This program will repeat every 2nd and 4th Tuesday eac
 h month in Bigfork\, with two classes each day it&rsquo\;s offered.\n\nBig
 fork Community Room:&nbsp\;November 12 &amp\; 26\, 10:30am-12:30pm &amp\; 
 4pm-5:45pm\n
X-ALT-DESC:FMTTYPE=text/html:<!DOCTYPE HTML PUBLIC "-//W3C//DTD HTML 3.2//E
 N"><HTML><p style="margin-bottom:8px"><span style="font-size:11pt"><span s
 tyle="font-family:Verdana\,sans-serif"><span style="font-size:10.0pt"><spa
 n style="color:#685c53">Join instructors Diane Denney and Susie Hill from 
 Kalispell&rsquo\;s FamilySearch Center for genealogy classes geared toward
  individuals and families aged 13 and older.&nbsp\;Learn personal research
 ing skills\, connect with family history groups\, and get expert help navi
 gating genealogical sites.&nbsp\;This program will repeat every 2<sup>nd</
 sup> and 4<sup>th</sup> Tuesday each month in Bigfork\, with two classes e
 ach day it&rsquo\;s offered.</span></span></span></span></p>\n\n<p style="
 margin-left:48px"><span style="font-size:11pt"><span style="font-family:Ve
 rdana\,sans-serif"><b><span style="font-size:10.0pt"><span style="color:#6
 85c53">Bigfork Community Room:&nbsp\;</span></span></b><span style="font-s
 ize:10.0pt"><span style="color:#685c53">November 12 &amp\; 26\, 10:30am-12
 :30pm &amp\; 4pm-5:45pm</span></span></span></span></p>\n</HTML>
CREATED;TZID=America/Denver:20241025T102920
URL;VALUE=URI:https://flatheadcounty.gov/county-calendar/calendar-event-det
 ail/genealogy-class
DTSTART;TZID=America/Denver:20241126T160000
DTEND;TZID=America/Denver:20241126T174500
SEQUENCE:3
END:VEVENT
END:VCALENDAR
