BEGIN:VCALENDAR
VERSION:2.0
PRODID:-//Sabre//Sabre VObject 4.5.8//EN
CALSCALE:GREGORIAN
BEGIN:VEVENT
UID:sabre-vobject-af697ee7-1fd8-4284-9fef-dc08054d71fa
DTSTAMP:20260420T153043Z
SUMMARY:Mountain Climber Public Transportation Annual Meeting for Whitefish
DESCRIPTION:
X-ALT-DESC:FMTTYPE=text/html:<!DOCTYPE HTML PUBLIC "-//W3C//DTD HTML 3.2//E
 N"><HTML></HTML>
CREATED;TZID=America/Denver:20241104T125147
URL;VALUE=URI:https://flatheadcounty.gov/county-calendar/calendar-event-det
 ail/mountain-climber-public-transportation-annual-meeting-whitefish
DTSTART;TZID=America/Denver:20241205T180000
DTEND;TZID=America/Denver:20241205T193000
SEQUENCE:0
END:VEVENT
END:VCALENDAR
