BEGIN:VCALENDAR
VERSION:2.0
PRODID:-//Sabre//Sabre VObject 4.5.8//EN
CALSCALE:GREGORIAN
BEGIN:VEVENT
UID:sabre-vobject-6aac6523-c7b6-4d4d-a102-85b2c7b645e0
DTSTAMP:20260420T113728Z
SUMMARY:Mountain Climber Public Transportation Annual Meeting for Kalispell
DESCRIPTION:
X-ALT-DESC:FMTTYPE=text/html:<!DOCTYPE HTML PUBLIC "-//W3C//DTD HTML 3.2//E
 N"><HTML></HTML>
CREATED;TZID=America/Denver:20241104T125446
URL;VALUE=URI:https://flatheadcounty.gov/county-calendar/calendar-event-det
 ail/mountain-climber-public-transportation-annual-meeting
DTSTART;TZID=America/Denver:20241212T140000
DTEND;TZID=America/Denver:20241212T153000
SEQUENCE:0
END:VEVENT
END:VCALENDAR
