BEGIN:VCALENDAR
VERSION:2.0
PRODID:-//Sabre//Sabre VObject 4.5.8//EN
CALSCALE:GREGORIAN
BEGIN:VEVENT
UID:sabre-vobject-8ca8c506-bf13-4c71-b5d4-bde8d29216bb
DTSTAMP:20260420T115533Z
SUMMARY:Mountain Climber Public Transportation Annual Meeting for Columbia 
 Falls
DESCRIPTION:
X-ALT-DESC:FMTTYPE=text/html:<!DOCTYPE HTML PUBLIC "-//W3C//DTD HTML 3.2//E
 N"><HTML></HTML>
CREATED;TZID=America/Denver:20241104T125726
URL;VALUE=URI:https://flatheadcounty.gov/county-calendar/calendar-event-det
 ail/mountain-climber-public-transportation-annual-meeting-columbia-falls
DTSTART;TZID=America/Denver:20241219T180000
DTEND;TZID=America/Denver:20241219T193000
SEQUENCE:0
END:VEVENT
END:VCALENDAR
