BEGIN:VCALENDAR
VERSION:2.0
PRODID:-//Sabre//Sabre VObject 4.5.8//EN
CALSCALE:GREGORIAN
BEGIN:VEVENT
UID:sabre-vobject-1f0b0413-22c8-42f4-9cc2-82328c98386a
DTSTAMP:20260420T113941Z
SUMMARY:Fight Fraud Friday
DESCRIPTION:Stop in for lunch in the AOA Dining Room\, 11:30 am-1:00 pm for
  information on steps you can take if you have been affected by a data bre
 ach. Call 406-758-2471 for more information.\n
X-ALT-DESC:FMTTYPE=text/html:<!DOCTYPE HTML PUBLIC "-//W3C//DTD HTML 3.2//E
 N"><HTML><p>Stop in for lunch in the AOA Dining Room\, 11:30 am-1:00 pm fo
 r information on steps you can take if you have been affected by a data br
 each. Call 406-758-2471 for more information.</p>\n</HTML>
CREATED;TZID=America/Denver:20241108T092824
URL;VALUE=URI:https://flatheadcounty.gov/county-calendar/calendar-event-det
 ail/fight-fraud-friday-13
DTSTART;TZID=America/Denver:20241115T113000
DTEND;TZID=America/Denver:20241115T130000
SEQUENCE:0
END:VEVENT
END:VCALENDAR
