BEGIN:VCALENDAR
VERSION:2.0
PRODID:-//Sabre//Sabre VObject 4.5.8//EN
CALSCALE:GREGORIAN
BEGIN:VEVENT
UID:sabre-vobject-b317d649-cf81-4d97-b576-795ee0ce2b4f
DTSTAMP:20260420T115244Z
SUMMARY:Hot tub & Swim Spa Sale
DESCRIPTION:
X-ALT-DESC:FMTTYPE=text/html:<!DOCTYPE HTML PUBLIC "-//W3C//DTD HTML 3.2//E
 N"><HTML></HTML>
CREATED;TZID=America/Denver:20241112T110427
URL;VALUE=URI:https://flatheadcounty.gov/county-calendar/calendar-event-det
 ail/hot-tub-and-swim-spa-sale-2
DTSTART;TZID=America/Denver:20241115T140000
DTEND;TZID=America/Denver:20241115T200000
SEQUENCE:0
END:VEVENT
BEGIN:VEVENT
UID:sabre-vobject-b060aea7-bcc2-4669-b21e-0f1ce7d7c85f
DTSTAMP:20260420T115244Z
SUMMARY:Hot tub & Swim Spa Sale
DESCRIPTION:
X-ALT-DESC:FMTTYPE=text/html:<!DOCTYPE HTML PUBLIC "-//W3C//DTD HTML 3.2//E
 N"><HTML></HTML>
CREATED;TZID=America/Denver:20241112T110427
URL;VALUE=URI:https://flatheadcounty.gov/county-calendar/calendar-event-det
 ail/hot-tub-and-swim-spa-sale-2
DTSTART;TZID=America/Denver:20241116T100000
DTEND;TZID=America/Denver:20241116T200000
SEQUENCE:1
END:VEVENT
BEGIN:VEVENT
UID:sabre-vobject-72a0c495-1d4f-4b59-8e1b-89de0b0b016e
DTSTAMP:20260420T115244Z
SUMMARY:Hot tub & Swim Spa Sale
DESCRIPTION:
X-ALT-DESC:FMTTYPE=text/html:<!DOCTYPE HTML PUBLIC "-//W3C//DTD HTML 3.2//E
 N"><HTML></HTML>
CREATED;TZID=America/Denver:20241112T110427
URL;VALUE=URI:https://flatheadcounty.gov/county-calendar/calendar-event-det
 ail/hot-tub-and-swim-spa-sale-2
DTSTART;TZID=America/Denver:20241117T100000
DTEND;TZID=America/Denver:20241117T180000
SEQUENCE:2
END:VEVENT
BEGIN:VEVENT
UID:sabre-vobject-4178c9a8-34f9-413a-a029-677e1ac86d0e
DTSTAMP:20260420T115244Z
SUMMARY:Hot tub & Swim Spa Sale
DESCRIPTION:
X-ALT-DESC:FMTTYPE=text/html:<!DOCTYPE HTML PUBLIC "-//W3C//DTD HTML 3.2//E
 N"><HTML></HTML>
CREATED;TZID=America/Denver:20241112T110427
URL;VALUE=URI:https://flatheadcounty.gov/county-calendar/calendar-event-det
 ail/hot-tub-and-swim-spa-sale-2
DTSTART;TZID=America/Denver:20241122T140000
DTEND;TZID=America/Denver:20241122T200000
SEQUENCE:3
END:VEVENT
BEGIN:VEVENT
UID:sabre-vobject-d11b2bf2-2d48-48d2-ad95-877acbdb163a
DTSTAMP:20260420T115244Z
SUMMARY:Hot tub & Swim Spa Sale
DESCRIPTION:
X-ALT-DESC:FMTTYPE=text/html:<!DOCTYPE HTML PUBLIC "-//W3C//DTD HTML 3.2//E
 N"><HTML></HTML>
CREATED;TZID=America/Denver:20241112T110427
URL;VALUE=URI:https://flatheadcounty.gov/county-calendar/calendar-event-det
 ail/hot-tub-and-swim-spa-sale-2
DTSTART;TZID=America/Denver:20241123T100000
DTEND;TZID=America/Denver:20241123T200000
SEQUENCE:4
END:VEVENT
BEGIN:VEVENT
UID:sabre-vobject-9171ab1d-b04e-4bfa-b98e-82587498ca80
DTSTAMP:20260420T115244Z
SUMMARY:Hot tub & Swim Spa Sale
DESCRIPTION:
X-ALT-DESC:FMTTYPE=text/html:<!DOCTYPE HTML PUBLIC "-//W3C//DTD HTML 3.2//E
 N"><HTML></HTML>
CREATED;TZID=America/Denver:20241112T110427
URL;VALUE=URI:https://flatheadcounty.gov/county-calendar/calendar-event-det
 ail/hot-tub-and-swim-spa-sale-2
DTSTART;TZID=America/Denver:20241124T100000
DTEND;TZID=America/Denver:20241124T180000
SEQUENCE:5
END:VEVENT
END:VCALENDAR
