BEGIN:VCALENDAR
VERSION:2.0
PRODID:-//Sabre//Sabre VObject 4.5.8//EN
CALSCALE:GREGORIAN
BEGIN:VEVENT
UID:sabre-vobject-e4ceaa40-a2fd-4dcd-8453-11ebbd887ce1
DTSTAMP:20260420T113543Z
SUMMARY:Ashley Lake Land Use Advisory Committee
DESCRIPTION:
X-ALT-DESC:FMTTYPE=text/html:<!DOCTYPE HTML PUBLIC "-//W3C//DTD HTML 3.2//E
 N"><HTML></HTML>
CREATED;TZID=America/Denver:20241119T195023
URL;VALUE=URI:https://flatheadcounty.gov/county-calendar/calendar-event-det
 ail/ashley-lake-land-use-advisory-committee-1
DTSTART;TZID=America/Denver:20241121T180000
DTEND;TZID=America/Denver:20241121T190000
SEQUENCE:0
END:VEVENT
END:VCALENDAR
