BEGIN:VCALENDAR
VERSION:2.0
PRODID:-//Sabre//Sabre VObject 4.5.8//EN
CALSCALE:GREGORIAN
BEGIN:VEVENT
UID:sabre-vobject-998e7da8-b671-439c-94f1-4f03b3ab1090
DTSTAMP:20260420T113410Z
SUMMARY:Library Board of Trustees Board Meeting
DESCRIPTION:The Flathead County Library Board of Trustees will hold a regul
 ar meeting on Thursday\, December 5th at 9:00 am.&nbsp\; The meeting will 
 be held in the South Campus Conference Room located at 40 11th Street W. i
 n Kalispell. \n\nPlease call Rhonda Hawkins at 406.758.5824 if you have qu
 estions.\n
X-ALT-DESC:FMTTYPE=text/html:<!DOCTYPE HTML PUBLIC "-//W3C//DTD HTML 3.2//E
 N"><HTML><p style="margin-bottom:8px"><span style="font-size:10pt"><span s
 tyle="line-height:118%"><span style="font-family:Calibri\,sans-serif"><spa
 n style="color:black"><span style="font-size:14.0pt"><span style="line-hei
 ght:118%"><span style="font-family:" verdana="">The Flathead County Librar
 y Board of Trustees will hold a regular meeting on Thursday\, December 5th
  at 9:00 am.&nbsp\; The meeting will be held in the South Campus Conferenc
 e Room located at 40 11<sup>th</sup> Street W. in Kalispell. </span></span
 ></span></span></span></span></span></p>\n\n<p style="margin-bottom:8px"><
 span style="font-size:10pt"><span style="line-height:118%"><span style="fo
 nt-family:Calibri\,sans-serif"><span style="color:black"><span style="font
 -size:14.0pt"><span style="line-height:118%"><span style="font-family:" ve
 rdana="">Please call Rhonda Hawkins at 406.758.5824 if you have questions.
 </span></span></span></span></span></span></span></p>\n</HTML>
CREATED;TZID=America/Denver:20241202T144100
URL;VALUE=URI:https://flatheadcounty.gov/county-calendar/calendar-event-det
 ail/library-board-trustees-board-meeting-7
DTSTART;TZID=America/Denver:20241205T090000
DTEND;TZID=America/Denver:20241205T120000
SEQUENCE:0
END:VEVENT
END:VCALENDAR
