BEGIN:VCALENDAR
VERSION:2.0
PRODID:-//Sabre//Sabre VObject 4.5.8//EN
CALSCALE:GREGORIAN
BEGIN:VEVENT
UID:sabre-vobject-a132c794-61a7-4ef5-aece-1dfbd9f4113c
DTSTAMP:20260420T113749Z
SUMMARY:EMS Advisory Committee
DESCRIPTION:Meeting of the Flathead County EMS Advisory Committee\, a sub g
 roup of the Flathead County EMS Administrative Board.\n\n&nbsp\;\n\nPlease
  note: Agenda will be posted prior to the meeting at OES and online. Agend
 a is subject to change. Agenda will be posted no later than 48 hours prior
  to the meeting.&nbsp\;\n
X-ALT-DESC:FMTTYPE=text/html:<!DOCTYPE HTML PUBLIC "-//W3C//DTD HTML 3.2//E
 N"><HTML><p>Meeting of the Flathead County EMS Advisory Committee\, a sub 
 group of the Flathead County EMS Administrative Board.</p>\n\n<p>&nbsp\;</
 p>\n\n<p>Please note: Agenda will be posted prior to the meeting at OES an
 d online. Agenda is subject to change. Agenda will be posted no later than
  48 hours prior to the meeting.&nbsp\;</p>\n</HTML>
CREATED;TZID=America/Denver:20241127T110046
URL;VALUE=URI:https://flatheadcounty.gov/county-calendar/calendar-event-det
 ail/ems-advisory-committe-2
DTSTART;TZID=America/Denver:20241202T173000
DTEND;TZID=America/Denver:20241202T190000
SEQUENCE:0
END:VEVENT
END:VCALENDAR
