BEGIN:VCALENDAR
VERSION:2.0
PRODID:-//Sabre//Sabre VObject 4.5.8//EN
CALSCALE:GREGORIAN
BEGIN:VEVENT
UID:sabre-vobject-3fc736b0-5e38-40d0-bea3-2bc73e6671cd
DTSTAMP:20260422T133136Z
SUMMARY:Fight Fraud Friday
DESCRIPTION:This month&#39\;s topic: Hospice Fraud Prevention (stay ahead o
 f Medicare fraudsters)\n\nStop for lunch and join us in the AOA Dining Roo
 m for tips to protect yourself against Medicare fraud and stay one step ah
 ead of fraudsters. Call 406-758-2471 for more information.\n
X-ALT-DESC:FMTTYPE=text/html:<!DOCTYPE HTML PUBLIC "-//W3C//DTD HTML 3.2//E
 N"><HTML><p>This month&#39\;s topic: Hospice Fraud Prevention (stay ahead 
 of Medicare fraudsters)</p>\n\n<p>Stop for lunch and join us in the AOA Di
 ning Room for tips to protect yourself against Medicare fraud and stay one
  step ahead of fraudsters. Call 406-758-2471 for more information.</p>\n</
 HTML>
CREATED;TZID=America/Denver:20241209T103731
URL;VALUE=URI:https://flatheadcounty.gov/county-calendar/calendar-event-det
 ail/fight-fraud-friday-14
DTSTART;TZID=America/Denver:20241213T113000
DTEND;TZID=America/Denver:20241213T130000
SEQUENCE:0
END:VEVENT
END:VCALENDAR
