BEGIN:VCALENDAR
VERSION:2.0
PRODID:-//Sabre//Sabre VObject 4.5.8//EN
CALSCALE:GREGORIAN
BEGIN:VEVENT
UID:sabre-vobject-557bd2a1-a5f5-4b58-976e-47fc1c6d8d98
DTSTAMP:20260420T081437Z
SUMMARY:Mountain Climber T.A.C meeting
DESCRIPTION:
X-ALT-DESC:FMTTYPE=text/html:<!DOCTYPE HTML PUBLIC "-//W3C//DTD HTML 3.2//E
 N"><HTML></HTML>
CREATED;TZID=America/Denver:20241209T135257
URL;VALUE=URI:https://flatheadcounty.gov/county-calendar/calendar-event-det
 ail/mountain-climber-tc-meeting-14
DTSTART;TZID=America/Denver:20250206T140000
DTEND;TZID=America/Denver:20250206T153000
SEQUENCE:0
END:VEVENT
BEGIN:VEVENT
UID:sabre-vobject-287598a0-49ca-40cf-9d10-87c7271409e5
DTSTAMP:20260420T081437Z
SUMMARY:Mountain Climber T.A.C meeting
DESCRIPTION:
X-ALT-DESC:FMTTYPE=text/html:<!DOCTYPE HTML PUBLIC "-//W3C//DTD HTML 3.2//E
 N"><HTML></HTML>
CREATED;TZID=America/Denver:20241209T135257
URL;VALUE=URI:https://flatheadcounty.gov/county-calendar/calendar-event-det
 ail/mountain-climber-tc-meeting-14
DTSTART;TZID=America/Denver:20250403T140000
DTEND;TZID=America/Denver:20250403T153000
SEQUENCE:1
END:VEVENT
BEGIN:VEVENT
UID:sabre-vobject-a5aec207-6f0d-49f0-857b-05d8a8fa15de
DTSTAMP:20260420T081437Z
SUMMARY:Mountain Climber T.A.C meeting
DESCRIPTION:
X-ALT-DESC:FMTTYPE=text/html:<!DOCTYPE HTML PUBLIC "-//W3C//DTD HTML 3.2//E
 N"><HTML></HTML>
CREATED;TZID=America/Denver:20241209T135257
URL;VALUE=URI:https://flatheadcounty.gov/county-calendar/calendar-event-det
 ail/mountain-climber-tc-meeting-14
DTSTART;TZID=America/Denver:20250605T140000
DTEND;TZID=America/Denver:20250605T153000
SEQUENCE:2
END:VEVENT
BEGIN:VEVENT
UID:sabre-vobject-ec2fddcf-a22a-4345-8c3e-8987ea525de6
DTSTAMP:20260420T081437Z
SUMMARY:Mountain Climber T.A.C meeting
DESCRIPTION:
X-ALT-DESC:FMTTYPE=text/html:<!DOCTYPE HTML PUBLIC "-//W3C//DTD HTML 3.2//E
 N"><HTML></HTML>
CREATED;TZID=America/Denver:20241209T135257
URL;VALUE=URI:https://flatheadcounty.gov/county-calendar/calendar-event-det
 ail/mountain-climber-tc-meeting-14
DTSTART;TZID=America/Denver:20250807T140000
DTEND;TZID=America/Denver:20250807T153000
SEQUENCE:3
END:VEVENT
BEGIN:VEVENT
UID:sabre-vobject-a58c361b-a530-4948-9104-b6561385fea9
DTSTAMP:20260420T081437Z
SUMMARY:Mountain Climber T.A.C meeting
DESCRIPTION:
X-ALT-DESC:FMTTYPE=text/html:<!DOCTYPE HTML PUBLIC "-//W3C//DTD HTML 3.2//E
 N"><HTML></HTML>
CREATED;TZID=America/Denver:20241209T135257
URL;VALUE=URI:https://flatheadcounty.gov/county-calendar/calendar-event-det
 ail/mountain-climber-tc-meeting-14
DTSTART;TZID=America/Denver:20251002T140000
DTEND;TZID=America/Denver:20251002T153000
SEQUENCE:4
END:VEVENT
BEGIN:VEVENT
UID:sabre-vobject-a566511f-64ab-41b4-8f4d-d51947edc43e
DTSTAMP:20260420T081437Z
SUMMARY:Mountain Climber T.A.C meeting
DESCRIPTION:
X-ALT-DESC:FMTTYPE=text/html:<!DOCTYPE HTML PUBLIC "-//W3C//DTD HTML 3.2//E
 N"><HTML></HTML>
CREATED;TZID=America/Denver:20241209T135257
URL;VALUE=URI:https://flatheadcounty.gov/county-calendar/calendar-event-det
 ail/mountain-climber-tc-meeting-14
DTSTART;TZID=America/Denver:20251204T140000
DTEND;TZID=America/Denver:20251204T153000
SEQUENCE:5
END:VEVENT
END:VCALENDAR
